BEGIN:VCALENDAR
VERSION:2.0
PRODID:-//Area41.org - ECPv6.15.17.1//NONSGML v1.0//EN
CALSCALE:GREGORIAN
METHOD:PUBLISH
X-WR-CALNAME:Area41.org
X-ORIGINAL-URL:https://www.area41.org
X-WR-CALDESC:Events for Area41.org
REFRESH-INTERVAL;VALUE=DURATION:PT1H
X-Robots-Tag:noindex
X-PUBLISHED-TTL:PT1H
BEGIN:VTIMEZONE
TZID:America/Chicago
BEGIN:DAYLIGHT
TZOFFSETFROM:-0600
TZOFFSETTO:-0500
TZNAME:CDT
DTSTART:20240310T080000
END:DAYLIGHT
BEGIN:STANDARD
TZOFFSETFROM:-0500
TZOFFSETTO:-0600
TZNAME:CST
DTSTART:20241103T070000
END:STANDARD
BEGIN:DAYLIGHT
TZOFFSETFROM:-0600
TZOFFSETTO:-0500
TZNAME:CDT
DTSTART:20250309T080000
END:DAYLIGHT
BEGIN:STANDARD
TZOFFSETFROM:-0500
TZOFFSETTO:-0600
TZNAME:CST
DTSTART:20251102T070000
END:STANDARD
BEGIN:DAYLIGHT
TZOFFSETFROM:-0600
TZOFFSETTO:-0500
TZNAME:CDT
DTSTART:20260308T080000
END:DAYLIGHT
BEGIN:STANDARD
TZOFFSETFROM:-0500
TZOFFSETTO:-0600
TZNAME:CST
DTSTART:20261101T070000
END:STANDARD
END:VTIMEZONE
BEGIN:VEVENT
DTSTART;VALUE=DATE:20250703
DTEND;VALUE=DATE:20250707
DTSTAMP:20260424T184611
CREATED:20240818T172452Z
LAST-MODIFIED:20250629T183432Z
UID:3138-1751500800-1751846399@www.area41.org
SUMMARY:2025 A.A. International Convention
DESCRIPTION:Mark Your Calendars and Make Plans to Attend the 2025 A.A. International Convention\nVancouver\, British Columbia\, Canada \nJuly 3-6\, 2025 \nVancouver will welcome A.A. members from around the world for the 2025 International Convention. This will mark the 90th anniversary of the beginning of our Fellowship’s founding. \nOnline registration opens on September 10\, 2024.\nCheck the IC 2025 webpage (https://www.aa.org/international-convention) for more information about online registration on or after that day. \nTaking place once every ﬁve years\, the A.A. International Convention marks the anniversary of Bill W.’s ﬁrst meeting with Dr. Bob and the birth of Alcoholics Anonymous in 1935. At the  Convention\, members and their families and friends from around the world attend meetings\, workshops\, dances\, and events. A highlight is the traditional ﬂ ag ceremony to celebrate sobriety worldwide. \nLet’s celebrate sobriety together in Vancouver in 2025!
URL:https://www.area41.org/event/2025-a-a-international-convention/
LOCATION:Vancouver Convention Centre and BC Place Stadium\, 1055 Canada Pl\, Vancouver\, BC\, V6C 0C3\, Canada
CATEGORIES:International Convention
END:VEVENT
BEGIN:VEVENT
DTSTART;VALUE=DATE:20250704
DTEND;VALUE=DATE:20250706
DTSTAMP:20260424T184611
CREATED:20250531T190736Z
LAST-MODIFIED:20250629T183440Z
UID:15310-1751587200-1751759999@www.area41.org
SUMMARY:District 3 International Convention Watch Party!
DESCRIPTION:Join District 3 for a WATCH PARTY!\nWatch parts of the Alcoholics Anonymous International Convention\n(happening in Vancouver\, B.C.\, Canada)\nFROM The Meeting Place Great Hall\n2748 S St\nLincoln\, NE \nFri July 4\n3:00p.m. - 4.30p.m. UNITY THE MOST CHERISHED QUALITY\n5:00p.m. - 6:30p.m. LIVING SOBER  \nSat July 5\n11:00a.m. - 12:30p.m. AA AROUND THE WORLD CALL UP II\n1:00p.m. - 2:30p.m. H.A.L.T.\n3:00p.m. - 4:30p.m. INTENSIVE WORK WITH OTHER ALCOHOLICS\n5:00p.m. - 6:30p.m. CELEBRATE SOBRIETY  \nBring Finger Food to Share\nA-M Appetizers\nN-Z Desserts \nWater & Tea provided \n$5 suggested contribution
URL:https://www.area41.org/event/district-3-international-convention-watch-party/
LOCATION:The Meeting Place-Lincoln\, 2748 S St\, Lincoln\, NE\, 68503\, United States
CATEGORIES:District 3,Districts,Events,International Convention
END:VEVENT
END:VCALENDAR