BEGIN:VCALENDAR
VERSION:2.0
PRODID:-//Area41.org - ECPv6.15.17.1//NONSGML v1.0//EN
CALSCALE:GREGORIAN
METHOD:PUBLISH
X-WR-CALNAME:Area41.org
X-ORIGINAL-URL:https://www.area41.org
X-WR-CALDESC:Events for Area41.org
REFRESH-INTERVAL;VALUE=DURATION:PT1H
X-Robots-Tag:noindex
X-PUBLISHED-TTL:PT1H
BEGIN:VTIMEZONE
TZID:America/Chicago
BEGIN:DAYLIGHT
TZOFFSETFROM:-0600
TZOFFSETTO:-0500
TZNAME:CDT
DTSTART:20240310T080000
END:DAYLIGHT
BEGIN:STANDARD
TZOFFSETFROM:-0500
TZOFFSETTO:-0600
TZNAME:CST
DTSTART:20241103T070000
END:STANDARD
BEGIN:DAYLIGHT
TZOFFSETFROM:-0600
TZOFFSETTO:-0500
TZNAME:CDT
DTSTART:20250309T080000
END:DAYLIGHT
BEGIN:STANDARD
TZOFFSETFROM:-0500
TZOFFSETTO:-0600
TZNAME:CST
DTSTART:20251102T070000
END:STANDARD
BEGIN:DAYLIGHT
TZOFFSETFROM:-0600
TZOFFSETTO:-0500
TZNAME:CDT
DTSTART:20260308T080000
END:DAYLIGHT
BEGIN:STANDARD
TZOFFSETFROM:-0500
TZOFFSETTO:-0600
TZNAME:CST
DTSTART:20261101T070000
END:STANDARD
END:VTIMEZONE
BEGIN:VEVENT
DTSTART;TZID=America/Chicago:20250904T180000
DTEND;TZID=America/Chicago:20250904T190000
DTSTAMP:20260424T020806
CREATED:20250809T134659Z
LAST-MODIFIED:20250809T134742Z
UID:15861-1757008800-1757012400@www.area41.org
SUMMARY:District 23 Delegate Report Back
DESCRIPTION:D23 Business Meeting\nSeptember 4th\n6:00 pm - 7:00 pm \nJoin Us for Dinner & Fellowship!\nArea 41 Delegate\, Nick K.\, will join us to present his report and observations from the 2025 General Service Conference\, during our regular business meeting.  \nThis is a Hybrid Event \nTrinity United Methodist Church\n8009 Q Street\, Ralston\, NE  \nJoin via Zoom\nMeeting ID: 842 1325 0124\nPasscode: District \nThe District 23 Committee meets for its business meeting on the 1st Thursday of the month\, 6:00pm at Trinity United Methodist Church\, 8009 Q Street Ralston\, NE\, 68127. The meeting is also hybrid and can be accessed via Zoom.
URL:https://www.area41.org/event/district-23-delegate-report-back/
LOCATION:Trinity United Methodist Church-Ralston\, 8009 Q St\, Ralston\, NE\, 68127\, United States
CATEGORIES:District 23,Districts,Events
END:VEVENT
END:VCALENDAR