BEGIN:VCALENDAR
VERSION:2.0
PRODID:-//Area41.org - ECPv6.15.17.1//NONSGML v1.0//EN
CALSCALE:GREGORIAN
METHOD:PUBLISH
X-ORIGINAL-URL:https://www.area41.org
X-WR-CALDESC:Events for Area41.org
REFRESH-INTERVAL;VALUE=DURATION:PT1H
X-Robots-Tag:noindex
X-PUBLISHED-TTL:PT1H
BEGIN:VTIMEZONE
TZID:America/Chicago
BEGIN:DAYLIGHT
TZOFFSETFROM:-0600
TZOFFSETTO:-0500
TZNAME:CDT
DTSTART:20250309T080000
END:DAYLIGHT
BEGIN:STANDARD
TZOFFSETFROM:-0500
TZOFFSETTO:-0600
TZNAME:CST
DTSTART:20251102T070000
END:STANDARD
BEGIN:DAYLIGHT
TZOFFSETFROM:-0600
TZOFFSETTO:-0500
TZNAME:CDT
DTSTART:20260308T080000
END:DAYLIGHT
BEGIN:STANDARD
TZOFFSETFROM:-0500
TZOFFSETTO:-0600
TZNAME:CST
DTSTART:20261101T070000
END:STANDARD
BEGIN:DAYLIGHT
TZOFFSETFROM:-0600
TZOFFSETTO:-0500
TZNAME:CDT
DTSTART:20270314T080000
END:DAYLIGHT
BEGIN:STANDARD
TZOFFSETFROM:-0500
TZOFFSETTO:-0600
TZNAME:CST
DTSTART:20271107T070000
END:STANDARD
BEGIN:DAYLIGHT
TZOFFSETFROM:-0600
TZOFFSETTO:-0500
TZNAME:CDT
DTSTART:20280312T080000
END:DAYLIGHT
BEGIN:STANDARD
TZOFFSETFROM:-0500
TZOFFSETTO:-0600
TZNAME:CST
DTSTART:20281105T070000
END:STANDARD
END:VTIMEZONE
BEGIN:VEVENT
DTSTART;TZID=America/Chicago:20260522T120000
DTEND;TZID=America/Chicago:20260524T200000
DTSTAMP:20260423T182347
CREATED:20260215T173413Z
LAST-MODIFIED:20260215T173554Z
UID:17006-1779451200-1779652800@www.area41.org
SUMMARY:HACYPAA 10 - Oklahoma City\, OK
DESCRIPTION:Heartland Area Conference of Young People in AA\nHACYPAA 10 \nYPAA is (young people in Alcoholics Anonymous) Proof that recovery has no age limit- only courage. Where recovery meets purpose\, connection\, leadership and most importantly sobriety\nMay 22-24\, 2026 OKC BrickTown ALOFT\n209 N Walnut Ave\, Oklahoma City\, OK 73104\nPre-Register $25 until 2/28/2026\nMarch 1st- $30\nApril 30- $35 (Room block ends)\nAt the conference $40 \nLodging Option\nSpecial room rate: $129 per night\nRoom Block Ends: April 30\, 2026\nParking $10 per day \nProgram Chair: Watson \nSpeakers\nRichie B- Los Angeles\, CA\nSteve C- Shawnee\, OK\nSara V- Kansas City\, KS\nAl- Anon: Susan B- Tulsa\, OK \nRegister now\nhacypaa.us
URL:https://www.area41.org/event/hacypaa-10/
LOCATION:Aloft Oklahoma City Downtown - Bricktown\, 209 N Walnut Ave\, Oklahoma City\, OK\, 73104\, United States
CATEGORIES:Conference,Events
END:VEVENT
BEGIN:VEVENT
DTSTART;VALUE=DATE:20270305
DTEND;VALUE=DATE:20270308
DTSTAMP:20260423T182347
CREATED:20260228T215225Z
LAST-MODIFIED:20260301T001908Z
UID:17118-1804204800-1804463999@www.area41.org
SUMMARY:2027 West Central Region A.A. Service Conference (WCRAASC) - Breezy Point\, MN (Hybrid)
DESCRIPTION:SAVE THE DATE\nMarch 5-7\, 2027\nHosted by Area 35 at Breezy Point Resort  \nWatch for REGISTRATION DETAILS & VOLUNTEER OPPORTUNITES in Fall 2026!\nwestcentralregion.org
URL:https://www.area41.org/event/2027-wcraasc/
LOCATION:Breezy Point Resort\, 9252 Breezy Point Dr\, Breezy Point\, MN\, 56472\, United States
CATEGORIES:Conference,District 1,District 10,District 11,District 12,District 13,District 14,District 15,District 16,District 18,District 19,District 2,District 20,District 21,District 22,District 23,District 24,District 25,District 26,District 28,District 29,District 3,District 30,District 32,District 4,District 5,District 6,District 7,District 8,District 9,Districts,Distrito 31 - Español,Events,Service
END:VEVENT
END:VCALENDAR