BEGIN:VCALENDAR
VERSION:2.0
PRODID:-//Area41.org - ECPv6.15.17.1//NONSGML v1.0//EN
CALSCALE:GREGORIAN
METHOD:PUBLISH
X-WR-CALNAME:Area41.org
X-ORIGINAL-URL:https://www.area41.org
X-WR-CALDESC:Events for Area41.org
REFRESH-INTERVAL;VALUE=DURATION:PT1H
X-Robots-Tag:noindex
X-PUBLISHED-TTL:PT1H
BEGIN:VTIMEZONE
TZID:America/Chicago
BEGIN:DAYLIGHT
TZOFFSETFROM:-0600
TZOFFSETTO:-0500
TZNAME:CDT
DTSTART:20240310T080000
END:DAYLIGHT
BEGIN:STANDARD
TZOFFSETFROM:-0500
TZOFFSETTO:-0600
TZNAME:CST
DTSTART:20241103T070000
END:STANDARD
BEGIN:DAYLIGHT
TZOFFSETFROM:-0600
TZOFFSETTO:-0500
TZNAME:CDT
DTSTART:20250309T080000
END:DAYLIGHT
BEGIN:STANDARD
TZOFFSETFROM:-0500
TZOFFSETTO:-0600
TZNAME:CST
DTSTART:20251102T070000
END:STANDARD
BEGIN:DAYLIGHT
TZOFFSETFROM:-0600
TZOFFSETTO:-0500
TZNAME:CDT
DTSTART:20260308T080000
END:DAYLIGHT
BEGIN:STANDARD
TZOFFSETFROM:-0500
TZOFFSETTO:-0600
TZNAME:CST
DTSTART:20261101T070000
END:STANDARD
END:VTIMEZONE
BEGIN:VEVENT
DTSTART;TZID=America/Chicago:20251108T124500
DTEND;TZID=America/Chicago:20251108T163000
DTSTAMP:20260423T193646
CREATED:20250531T191323Z
LAST-MODIFIED:20251106T154923Z
UID:15313-1762605900-1762619400@www.area41.org
SUMMARY:4-Corners Workshop - Norfolk (Hybrid)
DESCRIPTION:In person in Norfolk\, with the option to hear speakers virtually. Virtual details below flyer.
URL:https://www.area41.org/event/4-corners-workshop-norfolk/
LOCATION:Norfolk Public Library\, 308 W Prospect Ave\, Norfolk\, NE\, 68701\, United States
CATEGORIES:District 11,District 16,District 24,Districts,Events,Servants,Service,Service Workshop,Workshop
END:VEVENT
BEGIN:VEVENT
DTSTART;TZID=America/Chicago:20251102T173000
DTEND;TZID=America/Chicago:20251102T183000
DTSTAMP:20260423T193646
CREATED:20251012T020100Z
LAST-MODIFIED:20251012T020419Z
UID:16365-1762104600-1762108200@www.area41.org
SUMMARY:Hybrid Plain Language Big Book (PLBB) Study
DESCRIPTION:
URL:https://www.area41.org/event/hybrid-plbb-study-3/
LOCATION:🛜 Virtual
CATEGORIES:Events,Servants,Workshop
END:VEVENT
BEGIN:VEVENT
DTSTART;TZID=America/Chicago:20251026T173000
DTEND;TZID=America/Chicago:20251026T183000
DTSTAMP:20260423T193646
CREATED:20251012T020029Z
LAST-MODIFIED:20251012T020422Z
UID:16363-1761499800-1761503400@www.area41.org
SUMMARY:Hybrid Plain Language Big Book (PLBB) Study
DESCRIPTION:
URL:https://www.area41.org/event/hybrid-plbb-study-2/
LOCATION:🛜 Virtual
CATEGORIES:Events,Servants,Workshop
END:VEVENT
BEGIN:VEVENT
DTSTART;TZID=America/Chicago:20251019T173000
DTEND;TZID=America/Chicago:20251019T183000
DTSTAMP:20260423T193646
CREATED:20251012T014653Z
LAST-MODIFIED:20251012T020427Z
UID:16349-1760895000-1760898600@www.area41.org
SUMMARY:Hybrid Plain Language Big Book (PLBB) Study
DESCRIPTION:
URL:https://www.area41.org/event/hybrid-plbb-study-1/
LOCATION:🛜 Virtual
CATEGORIES:Events,Servants,Workshop
END:VEVENT
BEGIN:VEVENT
DTSTART;TZID=America/Chicago:20251015T183000
DTEND;TZID=America/Chicago:20251015T193000
DTSTAMP:20260423T193646
CREATED:20250115T182443Z
LAST-MODIFIED:20251012T015550Z
UID:14386-1760553000-1760556600@www.area41.org
SUMMARY:Online Area 41 Concepts Workshop
DESCRIPTION:Area 41\n12 Concepts\nMonthly Workshop  \nOctober 15\, 6:30pm Central\nConcept X\nCrystal J.\nTacoma\, WA   \nZoom ID: 306 499 9217\nPasscode: service \nContact Area Delegate: area41.org/delegate
URL:https://www.area41.org/event/online-area-41-concepts-workshop-10/
LOCATION:🛜 Virtual
CATEGORIES:Delegate,Servants,Service,Service Workshop
END:VEVENT
END:VCALENDAR