BEGIN:VCALENDAR
VERSION:2.0
PRODID:-//Area41.org - ECPv6.15.17.1//NONSGML v1.0//EN
CALSCALE:GREGORIAN
METHOD:PUBLISH
X-WR-CALNAME:Area41.org
X-ORIGINAL-URL:https://www.area41.org
X-WR-CALDESC:Events for Area41.org
REFRESH-INTERVAL;VALUE=DURATION:PT1H
X-Robots-Tag:noindex
X-PUBLISHED-TTL:PT1H
BEGIN:VTIMEZONE
TZID:America/Chicago
BEGIN:DAYLIGHT
TZOFFSETFROM:-0600
TZOFFSETTO:-0500
TZNAME:CDT
DTSTART:20230312T080000
END:DAYLIGHT
BEGIN:STANDARD
TZOFFSETFROM:-0500
TZOFFSETTO:-0600
TZNAME:CST
DTSTART:20231105T070000
END:STANDARD
BEGIN:DAYLIGHT
TZOFFSETFROM:-0600
TZOFFSETTO:-0500
TZNAME:CDT
DTSTART:20240310T080000
END:DAYLIGHT
BEGIN:STANDARD
TZOFFSETFROM:-0500
TZOFFSETTO:-0600
TZNAME:CST
DTSTART:20241103T070000
END:STANDARD
BEGIN:DAYLIGHT
TZOFFSETFROM:-0600
TZOFFSETTO:-0500
TZNAME:CDT
DTSTART:20250309T080000
END:DAYLIGHT
BEGIN:STANDARD
TZOFFSETFROM:-0500
TZOFFSETTO:-0600
TZNAME:CST
DTSTART:20251102T070000
END:STANDARD
BEGIN:DAYLIGHT
TZOFFSETFROM:-0600
TZOFFSETTO:-0500
TZNAME:CDT
DTSTART:20260308T080000
END:DAYLIGHT
BEGIN:STANDARD
TZOFFSETFROM:-0500
TZOFFSETTO:-0600
TZNAME:CST
DTSTART:20261101T070000
END:STANDARD
END:VTIMEZONE
BEGIN:VEVENT
DTSTART;TZID=America/Chicago:20250712T090000
DTEND;TZID=America/Chicago:20250712T120000
DTSTAMP:20260424T010733
CREATED:20250707T171210Z
LAST-MODIFIED:20250714T134941Z
UID:15481-1752310800-1752321600@www.area41.org
SUMMARY:Area 41 Committee Meetings (Hybrid)
DESCRIPTION:Area 41 Committee Meetings (Hybrid: In Person and Online)\nSaturday\, July 12\, 2025\n9:00 AM - 12:00 PM  \nQuality Inn and Conference Center I-80 Grand Island\n7838 S Hwy 281\, Bldg A\, Grand Island\, NE 68803\n308-384-7770 \n[Zoom Meeting ID added week of event.] \nMore about Area 41 and assemblies:\narea41.org/service
URL:https://www.area41.org/event/committees-2025-07/
LOCATION:Quality Inn and Conference Center I-80 Grand Island\, 7838 S Hwy 281\, Bldg A\, Grand Island\, NE\, 68803\, United States
CATEGORIES:Assembly,Committees,Finance,Service,Technology and Communications
END:VEVENT
BEGIN:VEVENT
DTSTART;TZID=America/Chicago:20250315T140000
DTEND;TZID=America/Chicago:20250315T153000
DTSTAMP:20260424T010733
CREATED:20250203T182843Z
LAST-MODIFIED:20250203T183218Z
UID:14687-1742047200-1742052600@www.area41.org
SUMMARY:Online Committee Meeting - Technology and Communications
DESCRIPTION:Online Committee Meeting\nArea 41 Technology and Communications Committee  \nAll committee meeting\, during non-assembly months.\nOpen to any member of Area 41.  \nAgenda will be emailed to known committee members in advance of meeting.  \nZoom Meeting ID: 826 9447 5240\nPasscode: a41service\nNumeric passcode: 0781541335  \nContact Committee: area41.org/tech
URL:https://www.area41.org/event/2025-03-tech-committee/
LOCATION:🛜 Virtual
CATEGORIES:Committees,Service,Technology and Communications
END:VEVENT
BEGIN:VEVENT
DTSTART;TZID=America/Chicago:20250308T140000
DTEND;TZID=America/Chicago:20250308T153000
DTSTAMP:20260424T010733
CREATED:20250203T180913Z
LAST-MODIFIED:20250203T180913Z
UID:14676-1741442400-1741447800@www.area41.org
SUMMARY:Hybrid Assembly Working Session - Technology and Communications Committee
DESCRIPTION:Online Working Session\nArea 41 Technology and Communications Committee  \nWorking session to finetune our intended process and documentation for servants making hybrid assemblies happen.\nOpen to any member of Area 41.  \nZoom Meeting ID: 826 9447 5240\nPasscode: a41service\nNumeric passcode: 0781541335  \nContact Committee: area41.org/tech
URL:https://www.area41.org/event/2025-03-tech-working-session/
LOCATION:🛜 Virtual
CATEGORIES:Committees,Service,Technology and Communications
END:VEVENT
BEGIN:VEVENT
DTSTART;TZID=America/Chicago:20250222T140000
DTEND;TZID=America/Chicago:20250222T153000
DTSTAMP:20260424T010733
CREATED:20250203T182630Z
LAST-MODIFIED:20250203T182630Z
UID:14684-1740232800-1740238200@www.area41.org
SUMMARY:Online Committee Meeting - Technology and Communications
DESCRIPTION:Online Committee Meeting\nArea 41 Technology and Communications Committee  \nAll committee meeting\, during non-assembly months.\nOpen to any member of Area 41.  \nAgenda will be emailed to known committee members in advance of meeting.  \nZoom Meeting ID: 826 9447 5240\nPasscode: a41service\nNumeric passcode: 0781541335  \nContact Committee: area41.org/tech
URL:https://www.area41.org/event/2025-02-tech-committee/
LOCATION:🛜 Virtual
CATEGORIES:Committees,Service,Technology and Communications
END:VEVENT
BEGIN:VEVENT
DTSTART;TZID=America/Chicago:20250208T140000
DTEND;TZID=America/Chicago:20250208T153000
DTSTAMP:20260424T010733
CREATED:20250203T175555Z
LAST-MODIFIED:20250203T180838Z
UID:14661-1739023200-1739028600@www.area41.org
SUMMARY:Hybrid Assembly Working Session - Technology and Communications Committee
DESCRIPTION:Online Working Session\nArea 41 Technology and Communications Committee  \nWorking session to finetune our intended process and documentation for servants making hybrid assemblies happen.\nOpen to any member of Area 41.  \nZoom Meeting ID: 826 9447 5240\nPasscode: a41service\nNumeric passcode: 0781541335  \nContact Committee: area41.org/tech
URL:https://www.area41.org/event/2025-02-tech-working-session/
LOCATION:🛜 Virtual
CATEGORIES:Committees,Service,Technology and Communications
END:VEVENT
BEGIN:VEVENT
DTSTART;TZID=America/Chicago:20250118T140000
DTEND;TZID=America/Chicago:20250118T153000
DTSTAMP:20260424T010733
CREATED:20250115T041023Z
LAST-MODIFIED:20250118T165916Z
UID:14362-1737208800-1737214200@www.area41.org
SUMMARY:Online Committee Meeting - Technology and Communications
DESCRIPTION:Technology and Communications\nArea 41 Committee Meeting\nSat 01/18/25 2-3:30 PM Central \nAgenda:  \n\nRework agenda item for Audio-Visual Servant.\nConcur/finalize proposed newsletter information re. hybrid assembly.\n\nConnect Online:\nZoom Meeting ID: 826 9447 5240\nPasscode: a41service\nNumeric passcode: 0781541335 \nContact Committee:\narea41.org/service/committees/tech-comm/
URL:https://www.area41.org/event/online-committee-meeting-technology-and-communications/
LOCATION:🛜 Virtual
CATEGORIES:Committees,Service,Technology and Communications
END:VEVENT
BEGIN:VEVENT
DTSTART;TZID=America/Chicago:20250111T090000
DTEND;TZID=America/Chicago:20250111T120000
DTSTAMP:20260424T010733
CREATED:20250104T232243Z
LAST-MODIFIED:20250104T232424Z
UID:14116-1736586000-1736596800@www.area41.org
SUMMARY:Hybrid Committee Meeting - Technology and Communications
DESCRIPTION:Technology and Communications\nArea 41 Committee Meeting\nSat 01/11/25 9 AM - 12 PM Central \nIn Person at Area Assembly\, or Connect Online:\nZoom Meeting ID: 826 9447 5240\nPasscode: a41service \nContact Committee:\narea41.org/service/committees/tech-comm/ \n\nDid you know?\nAny member of Area 41 can attend an Area 41 Assembly and/or be a member of a Standing Committee\, regardless of whether they are currently a voting member at Area Assemblies. \nWe want you!\nTechnology and Communications has a recently expanded scope\, to serve Area 41 with the following:\n• Maintain the website: Area41.org according to the Area 41 Website Guidelines.\n• Support the technological needs of Area 41 groups\, districts\, and committees.\n• Assist with the technological aspects of Area assemblies. \nPlease join us and see which tasks fit your passion for service!
URL:https://www.area41.org/event/hybrid-committee-meeting-technology-and-communications/
LOCATION:Quality Inn and Conference Center I-80 Grand Island\, 7838 S Hwy 281\, Bldg A\, Grand Island\, NE\, 68803\, United States
CATEGORIES:Assembly,Committees,Service,Technology and Communications
END:VEVENT
BEGIN:VEVENT
DTSTART;TZID=America/Chicago:20241214T140000
DTEND;TZID=America/Chicago:20241214T153000
DTSTAMP:20260424T010733
CREATED:20241204T045657Z
LAST-MODIFIED:20241204T045739Z
UID:13833-1734184800-1734190200@www.area41.org
SUMMARY:Committee Meeting - Technology and Communications
DESCRIPTION:Technology & Communications\nArea 41 Committee \nDid you know?\nAny member of Area 41 can attend an Area 41 Assembly and/or be a member of a Standing Committee\, regardless of whether they are currently a voting member at Area Assemblies. \nWe want you!\nTechnology and Communications has a recently expanded scope\, to serve Area 41 with the following:\n• Maintain the website: Area41.org according to the Area 41 Website Guidelines.\n• Support the technological needs of Area 41 groups\, districts\, and committees.\n• Assist with the technological aspects of Area assemblies. \nWe have several agenda items in committee\, and would benefit from more members to help move these items forward. \nPlease join us and see which tasks fit your passion for service! \nRemaining 2024 Committee Dates\n• Sat\, Dec 14 2 PM -3:30 PM Online\n*Additional working sessions and/or subcommittees may be scheduled as needed. \nConnect Online\nZoom Meeting ID: 826 944 7 5240\nPasscode: a41service \nContact Committee:\nhttps://www.area41.org/service/committees/tech-comm/
URL:https://www.area41.org/event/committee-meeting-technology-and-communications-2/
LOCATION:🛜 Virtual
CATEGORIES:Committees,Service,Technology and Communications
END:VEVENT
END:VCALENDAR