BEGIN:VCALENDAR
VERSION:2.0
PRODID:-//Area41.org - ECPv6.15.17.1//NONSGML v1.0//EN
CALSCALE:GREGORIAN
METHOD:PUBLISH
X-ORIGINAL-URL:https://www.area41.org
X-WR-CALDESC:Events for Area41.org
REFRESH-INTERVAL;VALUE=DURATION:PT1H
X-Robots-Tag:noindex
X-PUBLISHED-TTL:PT1H
BEGIN:VTIMEZONE
TZID:America/Chicago
BEGIN:DAYLIGHT
TZOFFSETFROM:-0600
TZOFFSETTO:-0500
TZNAME:CDT
DTSTART:20240310T080000
END:DAYLIGHT
BEGIN:STANDARD
TZOFFSETFROM:-0500
TZOFFSETTO:-0600
TZNAME:CST
DTSTART:20241103T070000
END:STANDARD
BEGIN:DAYLIGHT
TZOFFSETFROM:-0600
TZOFFSETTO:-0500
TZNAME:CDT
DTSTART:20250309T080000
END:DAYLIGHT
BEGIN:STANDARD
TZOFFSETFROM:-0500
TZOFFSETTO:-0600
TZNAME:CST
DTSTART:20251102T070000
END:STANDARD
BEGIN:DAYLIGHT
TZOFFSETFROM:-0600
TZOFFSETTO:-0500
TZNAME:CDT
DTSTART:20260308T080000
END:DAYLIGHT
BEGIN:STANDARD
TZOFFSETFROM:-0500
TZOFFSETTO:-0600
TZNAME:CST
DTSTART:20261101T070000
END:STANDARD
END:VTIMEZONE
BEGIN:VEVENT
DTSTART;TZID=America/Chicago:20250810T120000
DTEND;TZID=America/Chicago:20250810T133000
DTSTAMP:20260424T133636
CREATED:20250725T035400Z
LAST-MODIFIED:20250725T040135Z
UID:15799-1754827200-1754832600@www.area41.org
SUMMARY:Joint Committee Meeting - Report & Charter with Technology & Communications
DESCRIPTION:Report and Charter has requested a joint committee meeting with Technology and Communications on Sunday\, July 27 and Sunday\, August 10\, at 12 PM Central. This is primarily to discuss the translation item in Report and Charter; and we can also discuss Technology and Communications' request for a joint workshop/sharing session early next year\, if time allows.  \nZoom Meeting ID 897 8783 6849\nPasscode 673678
URL:https://www.area41.org/event/joint-committee-25-08/
LOCATION:🛜 Virtual
CATEGORIES:Committees,Report and Charter,Service,Technology and Communications
END:VEVENT
END:VCALENDAR