BEGIN:VCALENDAR
VERSION:2.0
PRODID:-//Area41.org - ECPv6.15.17.1//NONSGML v1.0//EN
CALSCALE:GREGORIAN
METHOD:PUBLISH
X-WR-CALNAME:Area41.org
X-ORIGINAL-URL:https://www.area41.org
X-WR-CALDESC:Events for Area41.org
REFRESH-INTERVAL;VALUE=DURATION:PT1H
X-Robots-Tag:noindex
X-PUBLISHED-TTL:PT1H
BEGIN:VTIMEZONE
TZID:America/Chicago
BEGIN:DAYLIGHT
TZOFFSETFROM:-0600
TZOFFSETTO:-0500
TZNAME:CDT
DTSTART:20240310T080000
END:DAYLIGHT
BEGIN:STANDARD
TZOFFSETFROM:-0500
TZOFFSETTO:-0600
TZNAME:CST
DTSTART:20241103T070000
END:STANDARD
BEGIN:DAYLIGHT
TZOFFSETFROM:-0600
TZOFFSETTO:-0500
TZNAME:CDT
DTSTART:20250309T080000
END:DAYLIGHT
BEGIN:STANDARD
TZOFFSETFROM:-0500
TZOFFSETTO:-0600
TZNAME:CST
DTSTART:20251102T070000
END:STANDARD
BEGIN:DAYLIGHT
TZOFFSETFROM:-0600
TZOFFSETTO:-0500
TZNAME:CDT
DTSTART:20260308T080000
END:DAYLIGHT
BEGIN:STANDARD
TZOFFSETFROM:-0500
TZOFFSETTO:-0600
TZNAME:CST
DTSTART:20261101T070000
END:STANDARD
END:VTIMEZONE
BEGIN:VEVENT
DTSTART;TZID=America/Chicago:20250809T140000
DTEND;TZID=America/Chicago:20250809T153000
DTSTAMP:20260424T133508
CREATED:20250725T040237Z
LAST-MODIFIED:20250810T190305Z
UID:15802-1754748000-1754753400@www.area41.org
SUMMARY:Online Committee Meeting - Technology and Communications
DESCRIPTION:Online Committee Meeting\nArea 41 Technology and Communications Committee  \nAll committee meeting\, during non-assembly months.\nOpen to any member of Area 41.  \nAgenda will be emailed to known committee members in advance of meeting.  \nZoom Meeting ID: 826 9447 5240\nPasscode: a41service\nNumeric passcode: 0781541335  \nContact Committee: area41.org/tech
URL:https://www.area41.org/event/tech-committee-25-08/
LOCATION:🛜 Virtual
CATEGORIES:Committees,Service,Technology and Communications
END:VEVENT
END:VCALENDAR