BEGIN:VCALENDAR
VERSION:2.0
PRODID:-//Area41.org - ECPv6.15.17.1//NONSGML v1.0//EN
CALSCALE:GREGORIAN
METHOD:PUBLISH
X-WR-CALNAME:Area41.org
X-ORIGINAL-URL:https://www.area41.org
X-WR-CALDESC:Events for Area41.org
REFRESH-INTERVAL;VALUE=DURATION:PT1H
X-Robots-Tag:noindex
X-PUBLISHED-TTL:PT1H
BEGIN:VTIMEZONE
TZID:America/Chicago
BEGIN:DAYLIGHT
TZOFFSETFROM:-0600
TZOFFSETTO:-0500
TZNAME:CDT
DTSTART:20240310T080000
END:DAYLIGHT
BEGIN:STANDARD
TZOFFSETFROM:-0500
TZOFFSETTO:-0600
TZNAME:CST
DTSTART:20241103T070000
END:STANDARD
BEGIN:DAYLIGHT
TZOFFSETFROM:-0600
TZOFFSETTO:-0500
TZNAME:CDT
DTSTART:20250309T080000
END:DAYLIGHT
BEGIN:STANDARD
TZOFFSETFROM:-0500
TZOFFSETTO:-0600
TZNAME:CST
DTSTART:20251102T070000
END:STANDARD
BEGIN:DAYLIGHT
TZOFFSETFROM:-0600
TZOFFSETTO:-0500
TZNAME:CDT
DTSTART:20260308T080000
END:DAYLIGHT
BEGIN:STANDARD
TZOFFSETFROM:-0500
TZOFFSETTO:-0600
TZNAME:CST
DTSTART:20261101T070000
END:STANDARD
END:VTIMEZONE
BEGIN:VEVENT
DTSTART;TZID=America/Chicago:20250111T090000
DTEND;TZID=America/Chicago:20250111T120000
DTSTAMP:20260424T230622
CREATED:20250104T232243Z
LAST-MODIFIED:20250104T232424Z
UID:14116-1736586000-1736596800@www.area41.org
SUMMARY:Hybrid Committee Meeting - Technology and Communications
DESCRIPTION:Technology and Communications\nArea 41 Committee Meeting\nSat 01/11/25 9 AM - 12 PM Central \nIn Person at Area Assembly\, or Connect Online:\nZoom Meeting ID: 826 9447 5240\nPasscode: a41service \nContact Committee:\narea41.org/service/committees/tech-comm/ \n\nDid you know?\nAny member of Area 41 can attend an Area 41 Assembly and/or be a member of a Standing Committee\, regardless of whether they are currently a voting member at Area Assemblies. \nWe want you!\nTechnology and Communications has a recently expanded scope\, to serve Area 41 with the following:\n• Maintain the website: Area41.org according to the Area 41 Website Guidelines.\n• Support the technological needs of Area 41 groups\, districts\, and committees.\n• Assist with the technological aspects of Area assemblies. \nPlease join us and see which tasks fit your passion for service!
URL:https://www.area41.org/event/hybrid-committee-meeting-technology-and-communications/
LOCATION:Quality Inn and Conference Center I-80 Grand Island\, 7838 S Hwy 281\, Bldg A\, Grand Island\, NE\, 68803\, United States
CATEGORIES:Assembly,Committees,Service,Technology and Communications
END:VEVENT
END:VCALENDAR