BEGIN:VCALENDAR
VERSION:2.0
PRODID:-//Area41.org - ECPv6.15.17.1//NONSGML v1.0//EN
CALSCALE:GREGORIAN
METHOD:PUBLISH
X-ORIGINAL-URL:https://www.area41.org
X-WR-CALDESC:Events for Area41.org
REFRESH-INTERVAL;VALUE=DURATION:PT1H
X-Robots-Tag:noindex
X-PUBLISHED-TTL:PT1H
BEGIN:VTIMEZONE
TZID:America/Chicago
BEGIN:DAYLIGHT
TZOFFSETFROM:-0600
TZOFFSETTO:-0500
TZNAME:CDT
DTSTART:20240310T080000
END:DAYLIGHT
BEGIN:STANDARD
TZOFFSETFROM:-0500
TZOFFSETTO:-0600
TZNAME:CST
DTSTART:20241103T070000
END:STANDARD
BEGIN:DAYLIGHT
TZOFFSETFROM:-0600
TZOFFSETTO:-0500
TZNAME:CDT
DTSTART:20250309T080000
END:DAYLIGHT
BEGIN:STANDARD
TZOFFSETFROM:-0500
TZOFFSETTO:-0600
TZNAME:CST
DTSTART:20251102T070000
END:STANDARD
BEGIN:DAYLIGHT
TZOFFSETFROM:-0600
TZOFFSETTO:-0500
TZNAME:CDT
DTSTART:20260308T080000
END:DAYLIGHT
BEGIN:STANDARD
TZOFFSETFROM:-0500
TZOFFSETTO:-0600
TZNAME:CST
DTSTART:20261101T070000
END:STANDARD
END:VTIMEZONE
BEGIN:VEVENT
DTSTART;TZID=America/Chicago:20250913T170000
DTEND;TZID=America/Chicago:20250913T183000
DTSTAMP:20260424T110828
CREATED:20250725T040347Z
LAST-MODIFIED:20250912T034226Z
UID:15804-1757782800-1757788200@www.area41.org
SUMMARY:Online Committee Meeting - Technology and Communications (time change!)
DESCRIPTION:Online Committee Meeting\nArea 41 Technology and Communications Committee  \nAll committee meeting\, during non-assembly months.\nOpen to any member of Area 41.  \nAgenda will be emailed to known committee members in advance of meeting:  \nOur monthly committee meeting will be held this Saturday\, but due to the Husker football game at 11 AM\, we’ll meet instead at 5:00–6:30 PM (Central).\nAt minimum\, we’ll be confirming our committee’s nomination/recommendation for the next chairperson.\nPlease join us to be part of the discussion\, or reach out to me directly if you have feedback but can’t attend. \nZoom Meeting ID: 826 9447 5240\nPasscode: a41service\nNumeric passcode: 0781541335  \nContact Committee: area41.org/tech
URL:https://www.area41.org/event/tech-committee-25-09/
LOCATION:🛜 Virtual
CATEGORIES:Committees,Service,Technology and Communications
END:VEVENT
END:VCALENDAR