BEGIN:VCALENDAR
VERSION:2.0
PRODID:-//Area41.org - ECPv6.15.17.1//NONSGML v1.0//EN
CALSCALE:GREGORIAN
METHOD:PUBLISH
X-ORIGINAL-URL:https://www.area41.org
X-WR-CALDESC:Events for Area41.org
REFRESH-INTERVAL;VALUE=DURATION:PT1H
X-Robots-Tag:noindex
X-PUBLISHED-TTL:PT1H
BEGIN:VTIMEZONE
TZID:America/Chicago
BEGIN:DAYLIGHT
TZOFFSETFROM:-0600
TZOFFSETTO:-0500
TZNAME:CDT
DTSTART:20240310T080000
END:DAYLIGHT
BEGIN:STANDARD
TZOFFSETFROM:-0500
TZOFFSETTO:-0600
TZNAME:CST
DTSTART:20241103T070000
END:STANDARD
BEGIN:DAYLIGHT
TZOFFSETFROM:-0600
TZOFFSETTO:-0500
TZNAME:CDT
DTSTART:20250309T080000
END:DAYLIGHT
BEGIN:STANDARD
TZOFFSETFROM:-0500
TZOFFSETTO:-0600
TZNAME:CST
DTSTART:20251102T070000
END:STANDARD
BEGIN:DAYLIGHT
TZOFFSETFROM:-0600
TZOFFSETTO:-0500
TZNAME:CDT
DTSTART:20260308T080000
END:DAYLIGHT
BEGIN:STANDARD
TZOFFSETFROM:-0500
TZOFFSETTO:-0600
TZNAME:CST
DTSTART:20261101T070000
END:STANDARD
END:VTIMEZONE
BEGIN:VEVENT
DTSTART;TZID=America/Chicago:20250308T140000
DTEND;TZID=America/Chicago:20250308T153000
DTSTAMP:20260424T201043
CREATED:20250203T180913Z
LAST-MODIFIED:20250203T180913Z
UID:14676-1741442400-1741447800@www.area41.org
SUMMARY:Hybrid Assembly Working Session - Technology and Communications Committee
DESCRIPTION:Online Working Session\nArea 41 Technology and Communications Committee  \nWorking session to finetune our intended process and documentation for servants making hybrid assemblies happen.\nOpen to any member of Area 41.  \nZoom Meeting ID: 826 9447 5240\nPasscode: a41service\nNumeric passcode: 0781541335  \nContact Committee: area41.org/tech
URL:https://www.area41.org/event/2025-03-tech-working-session/
LOCATION:🛜 Virtual
CATEGORIES:Committees,Service,Technology and Communications
END:VEVENT
BEGIN:VEVENT
DTSTART;TZID=America/Chicago:20250315T140000
DTEND;TZID=America/Chicago:20250315T153000
DTSTAMP:20260424T201043
CREATED:20250203T182843Z
LAST-MODIFIED:20250203T183218Z
UID:14687-1742047200-1742052600@www.area41.org
SUMMARY:Online Committee Meeting - Technology and Communications
DESCRIPTION:Online Committee Meeting\nArea 41 Technology and Communications Committee  \nAll committee meeting\, during non-assembly months.\nOpen to any member of Area 41.  \nAgenda will be emailed to known committee members in advance of meeting.  \nZoom Meeting ID: 826 9447 5240\nPasscode: a41service\nNumeric passcode: 0781541335  \nContact Committee: area41.org/tech
URL:https://www.area41.org/event/2025-03-tech-committee/
LOCATION:🛜 Virtual
CATEGORIES:Committees,Service,Technology and Communications
END:VEVENT
END:VCALENDAR