BEGIN:VCALENDAR
VERSION:2.0
PRODID:-//Area41.org - ECPv6.15.17.1//NONSGML v1.0//EN
CALSCALE:GREGORIAN
METHOD:PUBLISH
X-ORIGINAL-URL:https://www.area41.org
X-WR-CALDESC:Events for Area41.org
REFRESH-INTERVAL;VALUE=DURATION:PT1H
X-Robots-Tag:noindex
X-PUBLISHED-TTL:PT1H
BEGIN:VTIMEZONE
TZID:America/Chicago
BEGIN:DAYLIGHT
TZOFFSETFROM:-0600
TZOFFSETTO:-0500
TZNAME:CDT
DTSTART:20250309T080000
END:DAYLIGHT
BEGIN:STANDARD
TZOFFSETFROM:-0500
TZOFFSETTO:-0600
TZNAME:CST
DTSTART:20251102T070000
END:STANDARD
BEGIN:DAYLIGHT
TZOFFSETFROM:-0600
TZOFFSETTO:-0500
TZNAME:CDT
DTSTART:20260308T080000
END:DAYLIGHT
BEGIN:STANDARD
TZOFFSETFROM:-0500
TZOFFSETTO:-0600
TZNAME:CST
DTSTART:20261101T070000
END:STANDARD
BEGIN:DAYLIGHT
TZOFFSETFROM:-0600
TZOFFSETTO:-0500
TZNAME:CDT
DTSTART:20270314T080000
END:DAYLIGHT
BEGIN:STANDARD
TZOFFSETFROM:-0500
TZOFFSETTO:-0600
TZNAME:CST
DTSTART:20271107T070000
END:STANDARD
END:VTIMEZONE
BEGIN:VEVENT
DTSTART;TZID=America/Chicago:20260411T153000
DTEND;TZID=America/Chicago:20260411T173000
DTSTAMP:20260424T011102
CREATED:20260408T141232Z
LAST-MODIFIED:20260412T234703Z
UID:17262-1775921400-1775928600@www.area41.org
SUMMARY:Area 41 Committee Meetings (Hybrid)
DESCRIPTION:Area 41 Committee Meetings (Hybrid: In Person and Online)\nSaturday\, April 11\, 2026\n3:30 PM - 5:30 PM Central \nQuality Inn and Conference Center I-80 Grand Island\n7838 S Hwy 281\, Bldg A\, Grand Island\, NE 68803\n308-384-7770 \n[Zoom Meeting ID added week of event] \nView Committee pages/agendas:\narea41.org/service/committees \nMore about Area 41 and assemblies:\narea41.org/service
URL:https://www.area41.org/event/committees-2026-04/
LOCATION:Quality Inn and Conference Center I-80 Grand Island\, 7838 S Hwy 281\, Bldg A\, Grand Island\, NE\, 68803\, United States
CATEGORIES:Assembly,Committees,Finance,Report and Charter,Service,Technology and Communications
END:VEVENT
END:VCALENDAR