BEGIN:VCALENDAR
VERSION:2.0
PRODID:-//Area41.org - ECPv6.15.17.1//NONSGML v1.0//EN
CALSCALE:GREGORIAN
METHOD:PUBLISH
X-ORIGINAL-URL:https://www.area41.org
X-WR-CALDESC:Events for Area41.org
REFRESH-INTERVAL;VALUE=DURATION:PT1H
X-Robots-Tag:noindex
X-PUBLISHED-TTL:PT1H
BEGIN:VTIMEZONE
TZID:America/Chicago
BEGIN:DAYLIGHT
TZOFFSETFROM:-0600
TZOFFSETTO:-0500
TZNAME:CDT
DTSTART:20250309T080000
END:DAYLIGHT
BEGIN:STANDARD
TZOFFSETFROM:-0500
TZOFFSETTO:-0600
TZNAME:CST
DTSTART:20251102T070000
END:STANDARD
BEGIN:DAYLIGHT
TZOFFSETFROM:-0600
TZOFFSETTO:-0500
TZNAME:CDT
DTSTART:20260308T080000
END:DAYLIGHT
BEGIN:STANDARD
TZOFFSETFROM:-0500
TZOFFSETTO:-0600
TZNAME:CST
DTSTART:20261101T070000
END:STANDARD
BEGIN:DAYLIGHT
TZOFFSETFROM:-0600
TZOFFSETTO:-0500
TZNAME:CDT
DTSTART:20270314T080000
END:DAYLIGHT
BEGIN:STANDARD
TZOFFSETFROM:-0500
TZOFFSETTO:-0600
TZNAME:CST
DTSTART:20271107T070000
END:STANDARD
END:VTIMEZONE
BEGIN:VEVENT
DTSTART;TZID=America/Chicago:20260215T140000
DTEND;TZID=America/Chicago:20260215T150000
DTSTAMP:20260424T041118
CREATED:20260131T175433Z
LAST-MODIFIED:20260131T200135Z
UID:16887-1771164000-1771167600@www.area41.org
SUMMARY:Online Joint Committee Meeting - Technology and Communications + Finance
DESCRIPTION:Online Joint Committee Meeting\nArea 41 Technology and Communications Committee and Finance Committee  \nOngoing joint discussion regarding Agenda Items 2023-04-15 008b (Create guidelines and answer Traditions questions for future Area 41 purchases of electronic equipment) and 2026-01-10 007 (Purchase of Additional Hybrid Meeting Equipment). \nMeeting ID: 831 2741 9067\nPasscode: 833409 \nContact Committees: area41.org/tech | area41.org/finance
URL:https://www.area41.org/event/26-02-15-tech-comm-finance/
LOCATION:🛜 Virtual
CATEGORIES:Committees,Finance,Service,Technology and Communications
END:VEVENT
END:VCALENDAR