BEGIN:VCALENDAR
VERSION:2.0
PRODID:-//Area41.org - ECPv6.15.17.1//NONSGML v1.0//EN
CALSCALE:GREGORIAN
METHOD:PUBLISH
X-ORIGINAL-URL:https://www.area41.org
X-WR-CALDESC:Events for Area41.org
REFRESH-INTERVAL;VALUE=DURATION:PT1H
X-Robots-Tag:noindex
X-PUBLISHED-TTL:PT1H
BEGIN:VTIMEZONE
TZID:America/Chicago
BEGIN:DAYLIGHT
TZOFFSETFROM:-0600
TZOFFSETTO:-0500
TZNAME:CDT
DTSTART:20240310T080000
END:DAYLIGHT
BEGIN:STANDARD
TZOFFSETFROM:-0500
TZOFFSETTO:-0600
TZNAME:CST
DTSTART:20241103T070000
END:STANDARD
BEGIN:DAYLIGHT
TZOFFSETFROM:-0600
TZOFFSETTO:-0500
TZNAME:CDT
DTSTART:20250309T080000
END:DAYLIGHT
BEGIN:STANDARD
TZOFFSETFROM:-0500
TZOFFSETTO:-0600
TZNAME:CST
DTSTART:20251102T070000
END:STANDARD
BEGIN:DAYLIGHT
TZOFFSETFROM:-0600
TZOFFSETTO:-0500
TZNAME:CDT
DTSTART:20260308T080000
END:DAYLIGHT
BEGIN:STANDARD
TZOFFSETFROM:-0500
TZOFFSETTO:-0600
TZNAME:CST
DTSTART:20261101T070000
END:STANDARD
END:VTIMEZONE
BEGIN:VTIMEZONE
TZID:America/Denver
BEGIN:DAYLIGHT
TZOFFSETFROM:-0700
TZOFFSETTO:-0600
TZNAME:MDT
DTSTART:20240310T090000
END:DAYLIGHT
BEGIN:STANDARD
TZOFFSETFROM:-0600
TZOFFSETTO:-0700
TZNAME:MST
DTSTART:20241103T080000
END:STANDARD
BEGIN:DAYLIGHT
TZOFFSETFROM:-0700
TZOFFSETTO:-0600
TZNAME:MDT
DTSTART:20250309T090000
END:DAYLIGHT
BEGIN:STANDARD
TZOFFSETFROM:-0600
TZOFFSETTO:-0700
TZNAME:MST
DTSTART:20251102T080000
END:STANDARD
BEGIN:DAYLIGHT
TZOFFSETFROM:-0700
TZOFFSETTO:-0600
TZNAME:MDT
DTSTART:20260308T090000
END:DAYLIGHT
BEGIN:STANDARD
TZOFFSETFROM:-0600
TZOFFSETTO:-0700
TZNAME:MST
DTSTART:20261101T080000
END:STANDARD
END:VTIMEZONE
BEGIN:VEVENT
DTSTART;TZID=America/Chicago:20250620T180000
DTEND;TZID=America/Chicago:20250622T110000
DTSTAMP:20260423T232823
CREATED:20250617T181942Z
LAST-MODIFIED:20250617T182226Z
UID:15375-1750442400-1750590000@www.area41.org
SUMMARY:Enders A.A. Campout
DESCRIPTION:Friday night through Sunday morning. Camping\, potluck dinners and breakfasts\, open AA and Al-Anon meetings\, fun and fellowship! \n \nEnders AA Campout\nJune 20-22\, 2025\nFriday June 20: Set up camp: 6:00pm potluck supper followed by Campfire Open Meeting \nSaturday June 21: 9:00am Potluck Breakfast\n10:00 Open AA Meeting\nLunch on your own\n2:00pm Open Al-Anon Meeting\n6:00pm Potluck Supper\n~ Rocky Mountain Oyster/ Fish followed by AA Campfire Meeting~ \nSunday June 22: 9:00am Breakfast\nOpen AA Meeting following Breakfast \nLocation: Enders Lake South of Enders\, NE. Area A @ the electrical hook-ups\, by the showers \n*Food\, Fun\, Fellowship! Bring the Family !* \n*Multi-Focused Events may be attended by other twelve-step entities in addition to A.A. Therefore\, A.A. members are encouraged to consider their preferred level of personal anonymity accordingly.
URL:https://www.area41.org/event/enders-campout/
LOCATION:Enders Reservoir State Recreation Area\, 73122 388 Ave\, Enders\, NE\, 69027\, United States
CATEGORIES:District 13,Events
END:VEVENT
BEGIN:VEVENT
DTSTART;TZID=America/Chicago:20250613T200000
DTEND;TZID=America/Chicago:20250613T213000
DTSTAMP:20260423T232823
CREATED:20250604T033347Z
LAST-MODIFIED:20250607T124115Z
UID:15327-1749844800-1749850200@www.area41.org
SUMMARY:Friday Night Eagle 38th Anniversary
DESCRIPTION:Friday Night Eagle AA\n38th Anniversary\nFriday\, June 13\, 2025\n8:00 PM  \nEagle United Methodist Church\n704 4th St\nEagle\, NE 68347 \nGroup History\nBirthdays\nRaffle\nSpeaker\nCake and Ice Cream
URL:https://www.area41.org/event/friday-night-eagle-38th-anniversary/
LOCATION:Eagle United Methodist Church\, 704 4th S\, Eagle\, NE\, 68347\, United States
CATEGORIES:District 29,Events
END:VEVENT
BEGIN:VEVENT
DTSTART;VALUE=DATE:20250612
DTEND;VALUE=DATE:20250616
DTSTAMP:20260423T232823
CREATED:20241014T161941Z
LAST-MODIFIED:20250112T015636Z
UID:13565-1749686400-1750031999@www.area41.org
SUMMARY:17th Annual Soberfloat
DESCRIPTION:17TH ANNUAL SOBERFLOAT JUNE 2025\nJOIN US IN DISTRICT #14 FOR A WEEKEND OF FOOD\, FUN\, FELLOWSHIP AND FLOATING DOWN THE NIOBRARA RIVER! \nNEW! REQUIRED Everyone must call Sharp's Outfitters at 402-376-2506 or 402-322-5606 TO REGISTER and answer any questions on equipment requests\, reservations\, number of people in your group\, cooler tubes and pricing. Remember\, the early bird gets the worm! \nNear Valentine at Sharp’s Campground\, Sparks\, NE.  Come as early as you like and stay as long as you want! BBQ grills and cooking utensils available for use. \n\nSERVICE OPPORTUNITIES:\nSUNDAY\, JUNE 8 | MOVING IN: 1PM UNTIL DONE\nMove Trailers and equipment to the river. \nWEDNDESDAY\, JUNE 11 | SET UP BEGINS: 6A UNTIL FINISHED\nAll buildings\, kitchen & shower trailers. Hamburgers & hotdogs provided for helpers. \n\nTHURSDAY\, JUNE 12 | SET UP ENDS & FUN BEGINS!\n6AM UNTIL DONE!\n6:00-7:00 PM: Supper - Taco Bar\n8:00-9:30PM: Event & Housekeeping Campfire Meeting \nFRIDAY\, JUNE 13 | REFUGE FLOAT (8 HOUR FLOAT)\n6AM-8AM: Breakfast & Coffee Provided\n8:00AM - LAST ONE GONE: Shuttle to Cornell Bridge. Bring Your Own Lunch & Cooler (No Styrofoam)\n12:00-1:00PM: Campground Lunch for Those Not Floating.\n6:00-7:30PM: Supper - Sloppy Joes\n8:00-9:30PM: Campfire Meeting \nSATURDAY\, JUNE 14 | BERRY BRIDGE FLOAT (4 HOUR FLOAT)\n6AM-8AM: Breakfast & Coffee Provided\n8:00AM - LAST ONE GONE: Shuttle to Berry Bridge.\n12:00-2:00PM: Lunch - Hamburgers & Hot Dogs\n6:00-7:30 PM: Supper: Hog Roast\n8:00-TIL THE LAST ONE DROPS: Campfire Meeting \nSUNDAY\, JUNE 15 | FINAL MEAL & TEAR DOWN\n6:00-8:00 AM: Breakfast & Coffee. Spiritual Meeting after Breakfast.\n9:00AM: Teardown Begins - Everyone Help as You Are Able! \nSide dishes and desserts welcome at lunch and supper. \nDog Policy: Dogs must be on a solid leash (not extendable) at all times. Must have a current immunization record. Dog waste must be bagged and disposed of immediately. Absolutely no dogs allowed in the kitchen or dining areas. \nSERVICE OPPORTUNITIES ABOUND!!!\nFor questions\, contact: Dan 308-645-2423 or 308-539-6702\, Chris 402-389-1444 or Ed 308-750-2569\nsoberfloat@gmail.com
URL:https://www.area41.org/event/17th-annual-soberfloat/
LOCATION:Sharp's Campground\, 90048 Sparks River Road\, Sparks\, NE\, 69220\, United States
CATEGORIES:District 14
END:VEVENT
BEGIN:VEVENT
DTSTART;TZID=America/Chicago:20250531T130000
DTEND;TZID=America/Chicago:20250531T160000
DTSTAMP:20260423T232823
CREATED:20250508T041210Z
LAST-MODIFIED:20250508T041351Z
UID:15095-1748696400-1748707200@www.area41.org
SUMMARY:District 22 How to Put on an AA Workshop - Lincoln
DESCRIPTION:AA workshop on how to organize\, prepare and present a workshop. \nDistrict 22 Presents\nPastries\, Pretzels and Personalities!\nHow to Put on an AA Workshop  \nMeet ‘n Greet\nSpeaker Panel\nRAFFLE \nAA Literature Chair will have AA literature for sale! \nSaturday\, May 31st\n1pm - 4pm\nSt. Matthew’s Church\, 2325 S 24th St
URL:https://www.area41.org/event/d22-workshop-2025/
LOCATION:St. Matthew's Episcopal Church-Lincoln\, 2325 S 24th St\, Lincoln\, NE\, Lincoln\, NE\, 68502\, United States
CATEGORIES:District 22,Events,Service,Service Workshop
END:VEVENT
BEGIN:VEVENT
DTSTART;TZID=America/Chicago:20250518T180000
DTEND;TZID=America/Chicago:20250518T210000
DTSTAMP:20260423T232823
CREATED:20250412T140549Z
LAST-MODIFIED:20250412T140619Z
UID:15034-1747591200-1747602000@www.area41.org
SUMMARY:Change of Pace 22nd Anniversary - Stanton
DESCRIPTION:The Stanton Change Of Pace Group will be celebrating 22 years of carrying the message of Alcoholics Anonymous!\nSunday\, May 18\, 2025\nSt Luke's Lutheran Church\n1500 Veterans Ave\, Stanton\, NE 68779\nCoffee and fellowship and treats 6:00pm\nDoor prizes 6:45pm\nOpen AA meeting 7:00pm\nCake and ice cream to follow meeting.\nFriends and family welcome!!\nGet in the car and go on a road trip!!!!
URL:https://www.area41.org/event/change-of-pace-22nd-anniversary-stanton/
LOCATION:St Luke's Lutheran Church-Stanton\, 1500 Veterans Ave\, Stanton\, NE\, 68779\, United States
CATEGORIES:District 11,Events
END:VEVENT
BEGIN:VEVENT
DTSTART;TZID=America/Chicago:20250517T170000
DTEND;TZID=America/Chicago:20250517T220000
DTSTAMP:20260423T232823
CREATED:20250208T143927Z
LAST-MODIFIED:20250208T143927Z
UID:14720-1747501200-1747519200@www.area41.org
SUMMARY:El Grupo El Renacimiento - Aniversario XXII
DESCRIPTION:El Grupo El Renacimiento de aa invita a su XXII aniversario! \nEl dia Sábado 17 de mayo del 2025 a las 5:00 pm\n5001 S 23rd St\nOmaha NE\, 68107  \nCena y Baile Gratis
URL:https://www.area41.org/event/el-grupo-el-renacimiento-aniversario-xxii/
LOCATION:Our Lady of Guadalupe Church Hall-Omaha\, 5001 S 23rd St\, Omaha\, NE\, 68107\, United States
CATEGORIES:Distrito 31 - Español,Events
END:VEVENT
BEGIN:VEVENT
DTSTART;TZID=America/Chicago:20250517T133000
DTEND;TZID=America/Chicago:20250517T160000
DTSTAMP:20260423T232823
CREATED:20250508T035753Z
LAST-MODIFIED:20250508T040500Z
UID:15090-1747488600-1747497600@www.area41.org
SUMMARY:District 8 Singleness of Purpose Workshop - North Platte
DESCRIPTION:District 8 is hosting a workshop discussing singleness of purpose and legacy of service. Join us for an Italian theme potluck starting at 1:30 followed by our speakers Charlie H.\, the West Central Regional Trustee\, and our Area 41 Delegate\, Nick K. Please bring a side dish or dessert to share.
URL:https://www.area41.org/event/d8-workshop-2025/
LOCATION:Episcopal Church of Our Savior-North Platte\, 203 W 4th St\, North Platte\, NE\, 69101\, United States
CATEGORIES:District 8,Events,Service,Service Workshop
END:VEVENT
BEGIN:VEVENT
DTSTART;TZID=America/Chicago:20250517T100000
DTEND;TZID=America/Chicago:20250517T140000
DTSTAMP:20260423T232823
CREATED:20250419T145556Z
LAST-MODIFIED:20250419T145622Z
UID:15053-1747476000-1747490400@www.area41.org
SUMMARY:District 18 Spring Picnic - Elkhorn
DESCRIPTION:Join District 18 for a\nCornhole Tournament & Picnic\nSaturday\, May 17\n10 am- 2pm \nJoin us for food\, fellowship\, and fun!\nTa-Ha-Zouka Park- 905 Elkhorn Drive - Elkhorn\, NE \nDistrict 18 will provide chicken and drinks.\nPlease bring your family\, chairs\, and a dish to share.\nMeeting @ 10:30. Lunch @ 11:30. \nRaffles\, Prizes\, Games\, Food and Music!
URL:https://www.area41.org/event/district-18-spring-picnic-elkhorn/
LOCATION:Ta-Ha-Zouka Park-Elkhorn\, 905 Elkhorn Dr\, Omaha\, NE\, 68022\, United States
CATEGORIES:District 18,Events
END:VEVENT
BEGIN:VEVENT
DTSTART;TZID=America/Chicago:20250510T130000
DTEND;TZID=America/Chicago:20250510T170000
DTSTAMP:20260423T232823
CREATED:20250112T020115Z
LAST-MODIFIED:20250508T024636Z
UID:14230-1746882000-1746896400@www.area41.org
SUMMARY:Arlington 50 Year Celebration
DESCRIPTION:Arlington AA and Al-Anon are celebrating 50 Years! \nSaturday\, May 10\, 2025\, 1pm\nArlington Community Church\n355 N 4th St\, Arlington\, NE 68002\n(in the basement)  \n1pm Fellowship\n1:30pm Speakers\nJeannine M Al-Anon\nTal T AA  \nFood to follow:\nPulled Pork sandwiches\, chips\, and sides provided.\nFeel free to bring your favorite snack food.  \n*Multi-Focused Events may be attended by other twelve-step entities in addition to A.A. Therefore\, A.A. members are encouraged to consider their preferred level of personal anonymity accordingly.
URL:https://www.area41.org/event/arlington-50-year-celebration/
LOCATION:Arlington Community Church\, 355 N 4th St\, Arlington\, NE\, 68002\, United States
CATEGORIES:District 4,Events
END:VEVENT
BEGIN:VEVENT
DTSTART;TZID=America/Chicago:20250503T103000
DTEND;TZID=America/Chicago:20250503T140000
DTSTAMP:20260423T232823
CREATED:20250419T142055Z
LAST-MODIFIED:20250419T150025Z
UID:15046-1746268200-1746280800@www.area41.org
SUMMARY:District 23 Spring Fellowship - Ralston
DESCRIPTION:District 23\nSponsorship & Service\nSpring Fellowship\nSaturday\, May 3\, 2025\n10:30 am - 2:00 pm \nJoin us for Brunch\, Great Speakers and Fellowship!\nFree event\nPlease feel free to bring desserts and treats to share!
URL:https://www.area41.org/event/district-23-spring-fellowship/
LOCATION:Trinity United Methodist Church-Ralston\, 8009 Q St\, Ralston\, NE\, 68127\, United States
CATEGORIES:District 23,Events,Service Workshop
END:VEVENT
BEGIN:VEVENT
DTSTART;TZID=America/Chicago:20250426T170000
DTEND;TZID=America/Chicago:20250426T220000
DTSTAMP:20260423T232823
CREATED:20250208T143501Z
LAST-MODIFIED:20250208T143607Z
UID:14714-1745686800-1745704800@www.area41.org
SUMMARY:Grupo Mi Primera Experiencia - Aniversario XXXIV
DESCRIPTION:El grupo mi primera experiencia invita a su XXXIV aniversario!  \nEl Sábado 26 de abril del 2025 a las 5:00 pm\nSalon VFW\n321 E 10th St\nSchuyler\, NE 68661  \nCena y Baile Gratis
URL:https://www.area41.org/event/grupo-mi-primera-experiencia-aniversario-xxxiv/
LOCATION:VFW Club-Schuyler\, 321 E 10th St\, Schuyler\, NE\, 68661\, United States
CATEGORIES:Distrito 31 - Español,Events
END:VEVENT
BEGIN:VEVENT
DTSTART;TZID=America/Chicago:20250419T113000
DTEND;TZID=America/Chicago:20250419T133000
DTSTAMP:20260423T232823
CREATED:20250419T135056Z
LAST-MODIFIED:20250419T135131Z
UID:15041-1745062200-1745069400@www.area41.org
SUMMARY:District 1 Workshop - Omaha
DESCRIPTION:District 1 Workshop\nThe Freedom Gained by Working Steps 4 & 5 \nFree admission\nSpeakers will share on Step Four\nBBQ lunch provided by District 1\nPlease bring a side dish or dessert to share\nArea 41 Literature Chair will have literature available for purchase\nCome for the food\, stay for the fellowship and recovery!
URL:https://www.area41.org/event/district-1-workshop-omaha/
LOCATION:River of Life Lutheran Church-Omaha\, 5151 NW Radial Hwy\, Omaha\, NE\, 68104\, United States
CATEGORIES:District 1,Events,Recovery Workshop
END:VEVENT
BEGIN:VEVENT
DTSTART;TZID=America/Chicago:20250411T160000
DTEND;TZID=America/Chicago:20250413T120000
DTSTAMP:20260423T232823
CREATED:20250215T143646Z
LAST-MODIFIED:20250215T144438Z
UID:14762-1744387200-1744545600@www.area41.org
SUMMARY:70th Panhandle Jamboree - Scottsbluff
DESCRIPTION:70th Panhandle AA Jamboree\nLXX: Live Xtraordinary Xperiences\nApril 11-13\, 2025 \nHampton Inn & Suites\, 301 US-26\, Scottsbluff\, NE 69361\, 308-635-5200 \nCome for the Fellowship and Fun! Banquet tickets\, T-shirts\, coffee mugs available. Hear great speakers\, attend program workshop\, visit the Hospitality Room. Some food for Friday registration time provided. \n\n \nClick here for PDF of Registration Form \n*Multi-Focused Events may be attended by other twelve-step entities in addition to A.A. Therefore\, A.A. members are encouraged to consider their preferred level of personal anonymity accordingly.
URL:https://www.area41.org/event/70th-panhandle-jamboree-scottsbluff/
LOCATION:Hampton Inn & Suites Scottsbluff Conference Center\, 301 US-26\, Scottsbluff\, 69361\, United States
CATEGORIES:District 9,Events,Recovery Workshop
END:VEVENT
BEGIN:VEVENT
DTSTART;TZID=America/Chicago:20250405T160000
DTEND;TZID=America/Chicago:20250405T210000
DTSTAMP:20260423T232823
CREATED:20250208T142727Z
LAST-MODIFIED:20250208T143703Z
UID:14710-1743868800-1743886800@www.area41.org
SUMMARY:Grupo El Rescate - Aniversario XXXII
DESCRIPTION:El Grupo El Rescate de AA have una cordial invitacion a su XXXII aniversario!  \nEl dia 5 de Abril del 2025 a las 4:00 PM\n5001 S 23rd St\nOmaha\, NE 68107  \nCena y Baile Gratis
URL:https://www.area41.org/event/grupo-el-rescate-aniversario-xxxii/
LOCATION:Our Lady of Guadalupe Church Hall-Omaha\, 5001 S 23rd St\, Omaha\, NE\, 68107\, United States
CATEGORIES:Distrito 31 - Español,Events
END:VEVENT
BEGIN:VEVENT
DTSTART;TZID=America/Chicago:20250405T120000
DTEND;TZID=America/Chicago:20250405T150000
DTSTAMP:20260423T232823
CREATED:20250215T141907Z
LAST-MODIFIED:20250215T141958Z
UID:14756-1743854400-1743865200@www.area41.org
SUMMARY:164 Group - Get In The Middle of Alcoholics Anonymous
DESCRIPTION:Get in the middle of Alcoholics Anonymous. Participation in your own recovery. Dennis and Beverly H will share their experience. \nCoffee and Fellowship\nTaco Bar\nSpeakers\nFree event\n7th tradition observed self supporting.\nThe entrance is located in the back of Northwest Hills Church with plenty of free parking.
URL:https://www.area41.org/event/164-group-get-in-the-middle/
LOCATION:Northwest Hills Church-Omaha\, 9334 Fort St\, Omaha\, NE\, 68134\, United States
CATEGORIES:District 1,Events
END:VEVENT
BEGIN:VEVENT
DTSTART;TZID=America/Chicago:20250329T110000
DTEND;TZID=America/Chicago:20250329T153000
DTSTAMP:20260423T232823
CREATED:20250111T224457Z
LAST-MODIFIED:20250112T011912Z
UID:14209-1743246000-1743262200@www.area41.org
SUMMARY:District 7 Workshop - CPC/PI
DESCRIPTION:CPC/PI\nWhat is it and what does it entail?  \nSpeaker TBA\nSt. Alban's Episcopal Church\n509 W 1st St\nMcCook\, NE  \nSaturday\, March 29\n11:00 AM - 3:30 PM
URL:https://www.area41.org/event/district-7-workshop-cpc-pi/
LOCATION:St Alban's Episcopal Church-McCook\, 509 W 1st St\, McCook\, NE\, 69001\, United States
CATEGORIES:District 7,Districts,Events,Service,Service Workshop
END:VEVENT
BEGIN:VEVENT
DTSTART;TZID=America/Chicago:20250322T090000
DTEND;TZID=America/Chicago:20250322T120000
DTSTAMP:20260423T232823
CREATED:20250112T014711Z
LAST-MODIFIED:20250112T015457Z
UID:14224-1742634000-1742644800@www.area41.org
SUMMARY:District 2 - Step 11 Prayer and Meditation Workshop
DESCRIPTION:Step 11 Prayer and Meditation Workshop - 3rd Edition  \nSAVE THE DATE and plan to attend the next session District 2 sponsored Step 11 workshop designed to continue and help develop\, enlarge or enhance conscious contact with your Higher Power.  \nWhen: Saturday\, March 22\, 2025 -- 9am – 12 pm\nWhere: Prairie Lane Church - 3111 S 119th St\, Omaha NE  \nTopics:  \n\nDaily Reflection\nAccepting Progress over Perfection\nExamen:  Gratitude in prayer & meditation\n\nCost: Free\nContinental Breakfast provided\nRSVP to Karen S.
URL:https://www.area41.org/event/district-2-step-11-workshop/
LOCATION:Prairie Lane Christian Reformed Church-Omaha\, 3111 S 119th St\, Omaha\, NE\, 68144\, United States
CATEGORIES:District 2,Events,Recovery Workshop
END:VEVENT
BEGIN:VEVENT
DTSTART;TZID=America/Chicago:20250320T173000
DTEND;TZID=America/Chicago:20250320T203000
DTSTAMP:20260423T232823
CREATED:20250301T144043Z
LAST-MODIFIED:20250301T144219Z
UID:14871-1742491800-1742502600@www.area41.org
SUMMARY:48th Anniversary Feast & Fellowship Stag Event
DESCRIPTION:This is a mens only event. \n48th Anniversary Feast & Fellowship\nStag Event \nThursday\, March 20\, 2025\nCroatian Cultural Society\n8711 S 36th St\nBellevue\, NE 68147 \nPlease contact Mike F or Gail K by Thursday\, March 13 to RSVP.  \nSpeaker: Terry G. (Omaha)\nSchedule: 5:30pm Coffee\n6:00pm Ribeye Steak Dinner\nSpeaker to Follow  \nCost $20
URL:https://www.area41.org/event/48-feast-fellowship-stag/
LOCATION:Croatian Cultural Society-Bellevue\, 8711 S 36th St\, Bellevue\, NE\, 68147\, United States
CATEGORIES:District 20,Events
END:VEVENT
BEGIN:VEVENT
DTSTART;TZID=America/Chicago:20250316T190000
DTEND;TZID=America/Chicago:20250316T203000
DTSTAMP:20260423T232823
CREATED:20250215T153100Z
LAST-MODIFIED:20250215T153100Z
UID:14780-1742151600-1742157000@www.area41.org
SUMMARY:Sunday Night Workshop Anniversary - Lincoln
DESCRIPTION:Sunday Night Workshop Anniversary!!!\nMarch 16\, 2025\nOur Saviour's Lutheran Church\, 1200 S 40th St\, Lincoln\, NE 68510 \nDoors open at 7 PM\nFree Pie\nRaffle  \nSpeakers @ 7:30 PM\nTerry W. and Rick L.
URL:https://www.area41.org/event/sunday-night-workshop-anniversary-lincoln/
LOCATION:Our Saviour's Lutheran Church-Lincoln\, 1200 S 40th St\, Lincoln\, NE\, 68510\, United States
CATEGORIES:District 22,Events
END:VEVENT
BEGIN:VEVENT
DTSTART;TZID=America/Chicago:20250316T153000
DTEND;TZID=America/Chicago:20250316T170000
DTSTAMP:20260423T232823
CREATED:20250215T162716Z
LAST-MODIFIED:20250215T170059Z
UID:14817-1742139000-1742144400@www.area41.org
SUMMARY:Alano Club St. Patty's Fellowship - Omaha
DESCRIPTION:Alano Club St. Patty's Fellowship\nMarch 16\, 3:30 PM\nImmediately following the 2:30 Speaker Meeting.  \nCorned beef with cooked cabbage\, carrots\, and potatoes to be served by the Alano Club.  \nDonations accepted.\nPlease bring a side dish\, drinks\, or dessert.  \n*Multi-Focused Events may be attended by other twelve-step entities in addition to A.A. Therefore\, A.A. members are encouraged to consider their preferred level of personal anonymity accordingly.
URL:https://www.area41.org/event/alano-club-st-pattys-fellowship-omaha/
LOCATION:Alano Club-Omaha\, 1523 Vinton St\, Omaha\, NE\, 68108\, United States
CATEGORIES:District 19,Events
END:VEVENT
BEGIN:VEVENT
DTSTART;TZID=America/Chicago:20250315T140000
DTEND;TZID=America/Chicago:20250315T213000
DTSTAMP:20260423T232823
CREATED:20250115T052454Z
LAST-MODIFIED:20250215T171714Z
UID:14369-1742047200-1742074200@www.area41.org
SUMMARY:St. Patrick's Day - Lincoln
DESCRIPTION:St. Patrick's Day\nSaturday\, March 15\, 2025 \nHavelock United Methodist Church\n4140 N 60th St\, Lincoln\, NE 68507 \nDoors open at 2:00PM\nSpeakers include:  \n\n2:30 PM Cara G. \n3:30 pm Angel S.\n\nA corned beef and cabbage dinner will begin at 5pm!\nThere is a $5 suggested donation for dinner and desserts are greatly appreciated!\nBabysitting will be available during speakers! \nAn open raffle will being at 5:45 PM and donations are appreciated!\nPlease reach out to Faith with any donation questions! \nSoberokie from 6:30PM to 9:30PM
URL:https://www.area41.org/event/st-patricks-day-lincoln/
LOCATION:Havelock United Methodist Church-Lincoln\, 4140 N 60th St\, Lincoln\, NE\, 68507\, United States
CATEGORIES:District 29,Events
END:VEVENT
BEGIN:VEVENT
DTSTART;TZID=America/Chicago:20250315T110000
DTEND;TZID=America/Chicago:20250315T200000
DTSTAMP:20260423T232823
CREATED:20250215T170826Z
LAST-MODIFIED:20250215T170826Z
UID:14821-1742036400-1742068800@www.area41.org
SUMMARY:Luck of the Irish - Council Bluffs
DESCRIPTION:Luck of the Irish\nMarch 15\, 2025 \nNew Horizon Presbyterian Church\, 30 Valley View Dr\, Council Bluffs\, IA 51503  \n$15.00 Registration Fee \n11:00 am Registration\n1:00 pm Jackie L.\, Omaha\n3:00 pm Michelle L.\, Omaha\n4:30 - 6:00 pm Corn Beef & Cabbage\, Potatoes or Chicken\n6:00 pm Daniel Christian\, Musician\n7:00 pm Todd L.\, Omaha  \nDonations of side dishes and desserts appreciated.\nVolunteers needed!
URL:https://www.area41.org/event/luck-of-the-irish-council-bluffs/
LOCATION:New Horizon Presbyterian Church-Council Bluffs\, 30 Valley View Dr\, Council Bluffs\, IA\, 51503\, United States
CATEGORIES:Events,Iowa District 6 (Omaha Area)
END:VEVENT
BEGIN:VEVENT
DTSTART;TZID=America/Chicago:20250222T113000
DTEND;TZID=America/Chicago:20250222T153000
DTSTAMP:20260423T232823
CREATED:20250112T010834Z
LAST-MODIFIED:20250203T172307Z
UID:14218-1740223800-1740238200@www.area41.org
SUMMARY:Round Robin - Sidney\, NE
DESCRIPTION:Round Robin \nNorthstar & New Beginnings Groups Invite:  \nFebruary 22\, 2025\n11:30 Doors Open\nEat @ Noon  \nPLEASE JOIN US FOR:  \n\nLUNCH-Potluck (Bring any dish) we provide Turkey\, Ham\, Coffee and Water.\nSOBRIETY COUNTDOWN\nDOOR PRIZE\nRAFFLE\nSPEAKERS - AA: Tom A.Al-Anon: Tara T.\n\nHoly Trinity Lutheran Church\n2305 San Marino Rd\, Sidney\, NE 69162\n(IN THE BASEMENT-Handicap accessible)  \n*Multi-Focused Events may be attended by other twelve-step entities in addition to A.A. Therefore\, A.A. members are encouraged to consider their preferred level of personal anonymity accordingly.
URL:https://www.area41.org/event/round-robin-sidney-ne/
LOCATION:Holy Trinity Lutheran Church-Sidney\, 2305 San Marino Rd\, Sidney\, NE\, 69162\, United States
CATEGORIES:District 13,Events
END:VEVENT
BEGIN:VEVENT
DTSTART;TZID=America/Chicago:20250209T130000
DTEND;TZID=America/Chicago:20250209T150000
DTSTAMP:20260423T232823
CREATED:20250115T233956Z
LAST-MODIFIED:20250115T235334Z
UID:14394-1739106000-1739113200@www.area41.org
SUMMARY:District 23 Mini-Workshop - Prayer and Meditation 101 (Hybrid)
DESCRIPTION:A District 23 Mini-Workshop\nPrayer and Meditation 101\nTools and Tips to Try – Together! \nwith Leslie J.  \nSunday\, February 9\n1:00pm to 3:00pm  \nSimple Mindfulness Exercises\, Guided Meditations\, and other Techniques to Practice Step 11  \nLunch will be provided but please feel free to bring side dishes and desserts to share!  \nChapter VI Meeting Hall\n7703 Serum Ave\, Ralston\, NE  \nThis is a Hybrid Event\nMeeting ID: 842 1325 0124\nPasscode: District\nspeakers will start at approximately 1:30pm
URL:https://www.area41.org/event/district-23-mini-workshop-prayer-and-meditation-101/
LOCATION:Chapter VI Meeting Hall-Ralston\, 7703 Serum Ave\, Ralston\, NE\, 68127\, United States
CATEGORIES:District 23,Recovery Workshop
END:VEVENT
BEGIN:VEVENT
DTSTART;TZID=America/Chicago:20250209T110000
DTEND;TZID=America/Chicago:20250209T143000
DTSTAMP:20260423T232823
CREATED:20250104T225007Z
LAST-MODIFIED:20250105T020442Z
UID:14097-1739098800-1739111400@www.area41.org
SUMMARY:Taller del Distrito Hispano - Los Tres Legados
DESCRIPTION:Taller del Distrito\nLos Tres Legados  \nÁrea 41\nDistrito 31 \nDomingo 9 de febrero de 2025 \n11:00 a.m. Camaradería\n11:30 Reportes del Distrito 31\n12:00-1:00 Almuerzo\n1:00-2:30 Oradores\nPrimer Legado - Erika H.\nSegundo Legado - Ricardo M.\nTercer Legado - Nick K. \n3818 Q St\, Omaha\, NE 68107 \n(Local del grupo el Renacimiento) \nver sitio web de aadistrito31.org(Distrito Hispano de Nebraska)
URL:https://www.area41.org/event/taller-del-distrito-31/
LOCATION:Local del grupo el Renacimiento\, 3818 Q St\, Omaha\, NE\, 68107\, United States
CATEGORIES:Districts,Distrito 31 - Español,Recovery Workshop,Service,Service Workshop
END:VEVENT
BEGIN:VEVENT
DTSTART;TZID=America/Denver:20250208T110000
DTEND;TZID=America/Denver:20250208T143000
DTSTAMP:20260423T232823
CREATED:20250114T051811Z
LAST-MODIFIED:20250114T052831Z
UID:14291-1739012400-1739025000@www.area41.org
SUMMARY:Perkins County Breakfast Feed
DESCRIPTION:Come join us for our annual breakfast feed on February 8th\, 2025: \n- 11:00 AM Socializing\n- Noon Breakfast\n- 1:00 PM Open Meeting or speaker (tbd)\n*All times are MST. \nBreakfast:\nFrench toast\, sausage links\, bacon\, biscuits & gravy\, eggs\, coffee and tea will be provided. You may bring a dish if you desire.\nPlease come join us for fellowship\, fun\, and food!
URL:https://www.area41.org/event/perkins-county-breakfast-feed/
LOCATION:First Congregational Church-Grant\, 505 Washington Ave\, Grant\, NE\, 69140\, United States
CATEGORIES:District 13,Events
END:VEVENT
BEGIN:VEVENT
DTSTART;TZID=America/Chicago:20250125T170000
DTEND;TZID=America/Chicago:20250125T210000
DTSTAMP:20260423T232823
CREATED:20250112T031430Z
LAST-MODIFIED:20250114T052851Z
UID:14252-1737824400-1737838800@www.area41.org
SUMMARY:52nd Annual Bellevue Anniversary
DESCRIPTION:52nd Annual Bellevue Anniversary\nSaturday\, January 25\, 2025\nBellevue East High School\, 1401 High School Dr.\, Bellevue\, NE \n\n5:00 p.m. Coffee\n5:30 - 6:00 p.m. Lasagna Dinner\n6:30 p.m. AFC speaker - Shana C.\, Des Moines\, IA\n7:30 p.m. Break\n8:00 p.m. AA speaker - Vivian Q.\, Okatie\, SC \n\n$20 Registration for dinner and speakers \n*Multi-Focused Events may be attended by other twelve-step entities in addition to A.A. Therefore\, A.A. members are encouraged to consider their preferred level of personal anonymity accordingly.
URL:https://www.area41.org/event/52nd-annual-bellevue-anniversary/
LOCATION:Bellevue East High School\, 1401 High School Dr\, Bellevue\, NE\, 68005\, United States
CATEGORIES:District 20,Events
END:VEVENT
BEGIN:VEVENT
DTSTART;TZID=America/Chicago:20250125T113000
DTEND;TZID=America/Chicago:20250125T161400
DTSTAMP:20260423T232823
CREATED:20241013T162502Z
LAST-MODIFIED:20250114T052710Z
UID:13551-1737804600-1737821640@www.area41.org
SUMMARY:4 Corners Workshop - Saint Paul\, NE
DESCRIPTION:4 Corners Workshop \nSaturday\, January 25\, 2025\n12:00PM - 3:00PM  \nAlania Clubhouse\n1316 4th St\nSaint Paul\, NE 68873  \nAA Speakers & Bottomless Soup\nSides welcome!  \nLegacy Topic: Service\nCooperation with the Professional\nCommunity & Public Information (CPC/PI) -\nGetting Information About AA to Our Communities  \n11:30 AM: Food Set-Up\n12:00 PM: Introduction\n12:30-3:00: Speakers/Panel\n3:15-3:30: Q&A\n3:30-4:14: Breakdown Network
URL:https://www.area41.org/event/4-corners-workshop/
LOCATION:Alania Club-St. Paul\, 1316 4th St\, Saint Paul\, NE\, 68873\, United States
CATEGORIES:District 12,Events,Service,Service Workshop
END:VEVENT
BEGIN:VEVENT
DTSTART;TZID=America/Chicago:20250117T180000
DTEND;TZID=America/Chicago:20250117T203000
DTSTAMP:20260423T232823
CREATED:20250106T190358Z
LAST-MODIFIED:20250117T210103Z
UID:14199-1737136800-1737145800@www.area41.org
SUMMARY:Primary Purpose 22nd Annual Anniversary
DESCRIPTION:Primary Purpose 22nd Annual Anniversary\nNot a Glum Lot \n17 January 2025\nAn Evening of Fellowship and Fun \n6pm Coffee\n630pm Dinner\n730pm Meeting  \nGuest Speaker\nTony Joe P.  \nPotluck!\nBring a salad\, side\, or dessert!  \nCovenant Presbyterian Church\n15002 Blondo St\n[Omaha\, NE]
URL:https://www.area41.org/event/primary-purpose-22nd-annual-anniversary/
LOCATION:Covenant Presbyterian Church-Omaha\, 15002 Blondo St\, Omaha\, NE\, 68116\, United States
CATEGORIES:District 18,Events
END:VEVENT
END:VCALENDAR