BEGIN:VCALENDAR
VERSION:2.0
PRODID:-//Area41.org - ECPv6.15.17.1//NONSGML v1.0//EN
CALSCALE:GREGORIAN
METHOD:PUBLISH
X-ORIGINAL-URL:https://www.area41.org
X-WR-CALDESC:Events for Area41.org
REFRESH-INTERVAL;VALUE=DURATION:PT1H
X-Robots-Tag:noindex
X-PUBLISHED-TTL:PT1H
BEGIN:VTIMEZONE
TZID:America/Chicago
BEGIN:DAYLIGHT
TZOFFSETFROM:-0600
TZOFFSETTO:-0500
TZNAME:CDT
DTSTART:20240310T080000
END:DAYLIGHT
BEGIN:STANDARD
TZOFFSETFROM:-0500
TZOFFSETTO:-0600
TZNAME:CST
DTSTART:20241103T070000
END:STANDARD
BEGIN:DAYLIGHT
TZOFFSETFROM:-0600
TZOFFSETTO:-0500
TZNAME:CDT
DTSTART:20250309T080000
END:DAYLIGHT
BEGIN:STANDARD
TZOFFSETFROM:-0500
TZOFFSETTO:-0600
TZNAME:CST
DTSTART:20251102T070000
END:STANDARD
BEGIN:DAYLIGHT
TZOFFSETFROM:-0600
TZOFFSETTO:-0500
TZNAME:CDT
DTSTART:20260308T080000
END:DAYLIGHT
BEGIN:STANDARD
TZOFFSETFROM:-0500
TZOFFSETTO:-0600
TZNAME:CST
DTSTART:20261101T070000
END:STANDARD
BEGIN:DAYLIGHT
TZOFFSETFROM:-0600
TZOFFSETTO:-0500
TZNAME:CDT
DTSTART:20270314T080000
END:DAYLIGHT
BEGIN:STANDARD
TZOFFSETFROM:-0500
TZOFFSETTO:-0600
TZNAME:CST
DTSTART:20271107T070000
END:STANDARD
END:VTIMEZONE
BEGIN:VEVENT
DTSTART;TZID=America/Chicago:20260228T183000
DTEND;TZID=America/Chicago:20260228T220000
DTSTAMP:20260423T171233
CREATED:20260130T022906Z
LAST-MODIFIED:20260130T023032Z
UID:16882-1772303400-1772316000@www.area41.org
SUMMARY:Own Your Glow Dance Party - Lincoln
DESCRIPTION:
URL:https://www.area41.org/event/own-your-glow-dance-party-lincoln/
LOCATION:The Meeting Place-Lincoln\, 2748 S St\, Lincoln\, NE\, 68503\, United States
CATEGORIES:District 3,Events
END:VEVENT
BEGIN:VEVENT
DTSTART;TZID=America/Chicago:20260228T090000
DTEND;TZID=America/Chicago:20260228T110000
DTSTAMP:20260423T171233
CREATED:20260112T182320Z
LAST-MODIFIED:20260118T174428Z
UID:16774-1772269200-1772276400@www.area41.org
SUMMARY:Seeking Solutions 32nd Anniversary Meeting - Lincoln
DESCRIPTION:Seeking Solutions\n32nd Anniversary Meeting\nSaturday\, February 28\, 2026\nF Street Neighborhood Church\n1302 F Street\, Lincoln\, NE \n9:00 AM – Breakfast Begins\n9:40 AM – Free Raffle Begins\n(2 Tickets per Guest)\n10:00 AM – Hear Our Speaker\, Kelle N. \nBabysitting provided for this event. \nFor questions\, donations or to volunteer:\nLisa V. 402-730-5501\nErik D. 402-890-4709
URL:https://www.area41.org/event/seeking-solutions-32nd-anniversary/
LOCATION:F Street Neighborhood Church-Lincoln\, 1302 F St\, Lincoln\, NE\, 68508\, United States
CATEGORIES:District 21,Events
END:VEVENT
BEGIN:VEVENT
DTSTART;VALUE=DATE:20260227
DTEND;VALUE=DATE:20260302
DTSTAMP:20260423T171233
CREATED:20251027T151933Z
LAST-MODIFIED:20260228T214138Z
UID:16476-1772150400-1772409599@www.area41.org
SUMMARY:2026 West Central Region A.A. Service Conference (WCRAASC) - Cedar Rapids\, IA (Hybrid)
DESCRIPTION:2026 West Central Regional Service Conference\nFeb 27 - Mar 1\, 2026\nHosted by Area 24 \nAttend in person in Cedar Rapids\, IA or virtually (link provided after Registration). \n🔗 Register Online (eventbrite.com) {online sales ended}\n🔗 Hotel Information (hilton.com) 2026 WCRSC hotel overflow (PDF)\n🔗 Miscellaneous Info (westcentralregion.org) \nEnglish and Spanish flyers below:
URL:https://www.area41.org/event/2026-wcrsc/
LOCATION:DoubleTree by Hilton Hotel Cedar Rapids Convention Complex\, 350 1st Ave NE\, Cedar Rapids\, IA\, 52401\, United States
CATEGORIES:Conference,District 1,District 10,District 11,District 12,District 13,District 14,District 15,District 16,District 18,District 19,District 2,District 20,District 21,District 22,District 23,District 24,District 25,District 26,District 28,District 29,District 3,District 30,District 32,District 4,District 5,District 6,District 7,District 8,District 9,Districts,Distrito 31 - Español,Events,Iowa District 6 (Omaha Area),Service
END:VEVENT
BEGIN:VEVENT
DTSTART;TZID=America/Chicago:20260221T173000
DTEND;TZID=America/Chicago:20260221T200000
DTSTAMP:20260423T171233
CREATED:20260129T025238Z
LAST-MODIFIED:20260129T025238Z
UID:16872-1771695000-1771704000@www.area41.org
SUMMARY:District 18 Trivia Night - Omaha
DESCRIPTION:Join us for District 18’s Trivia Night! Light snacks and drinks will be provided\, but feel free to bring your own! \nSocial - 5:30 p.m.\nTrivia - 6-8 p.m.
URL:https://www.area41.org/event/district-18-trivia-night-omaha/
LOCATION:Lord of Love Lutheran Church-Omaha\, 10405 Fort St\, Omaha\, NE\, 68134\, United States
CATEGORIES:District 18,Districts,Events
END:VEVENT
BEGIN:VEVENT
DTSTART;TZID=America/Chicago:20260126T170000
DTEND;TZID=America/Chicago:20260126T193000
DTSTAMP:20260423T171233
CREATED:20260118T180607Z
LAST-MODIFIED:20260118T181152Z
UID:16806-1769446800-1769455800@www.area41.org
SUMMARY:Women to Women 22nd Anniversary - Omaha
DESCRIPTION:Women to Women 22nd Anniversary\nJanuary 26\, 2026\n"don't put the cart before the horse" \nAddress: 15001 Blondo\, Omaha\, NE\, basement of the Presbyterian Church \nTime: 5:00 coffee\,\n5:30 dinner\, Pot Luck\n6:30 Speaker\, Leslie J.
URL:https://www.area41.org/event/women-to-women-22nd-anniversary-omaha/
LOCATION:Covenant Presbyterian Church-Omaha\, 15002 Blondo St\, Omaha\, NE\, 68116\, United States
CATEGORIES:District 18,Events
END:VEVENT
BEGIN:VEVENT
DTSTART;TZID=America/Chicago:20260109T180000
DTEND;TZID=America/Chicago:20260109T203000
DTSTAMP:20260423T171233
CREATED:20251221T205948Z
LAST-MODIFIED:20251221T211425Z
UID:16580-1767981600-1767990600@www.area41.org
SUMMARY:Primary Purpose 23rd Anniversary
DESCRIPTION:“Happily and Usefully Whole” \n6:00pm – Coffee\n6:30pm – Dinner\n7:30pm – Speaker\, Edith P. \nPOTLUCK DINNER\nA-H: SALAD\nI-P: SIDE DISH\nQ-Z: DESSERT
URL:https://www.area41.org/event/primary-purpose-23rd-anniversary/
LOCATION:Covenant Presbyterian Church-Omaha\, 15002 Blondo St\, Omaha\, NE\, 68116\, United States
CATEGORIES:District 18,Events
END:VEVENT
BEGIN:VEVENT
DTSTART;TZID=America/Chicago:20251231T160000
DTEND;TZID=America/Chicago:20251231T160000
DTSTAMP:20260423T171233
CREATED:20251230T212410Z
LAST-MODIFIED:20251230T212410Z
UID:16594-1767196800-1767196800@www.area41.org
SUMMARY:New Year's Party - Sidney
DESCRIPTION:JOIN US FOR A\n2025\nNEW YEAR'S PARTY  \nDecember 31\, 4 PM  \nThe New Beginnings AA group is co-hosting a New Years pizza party with the North Star AA group. All are welcome\, pizza\, soft drinks\, water and root beer floats. Bring a side dish if you like.  \nHoly Trinity Lutheran  Church\n2305 San Marino\, Sidney\, NE
URL:https://www.area41.org/event/new-years-party-sidney/
LOCATION:Holy Trinity Lutheran Church-Sidney\, 2305 San Marino Rd\, Sidney\, NE\, 69162\, United States
CATEGORIES:District 13,Events
END:VEVENT
BEGIN:VEVENT
DTSTART;TZID=America/Chicago:20251231T120000
DTEND;TZID=America/Chicago:20260101T180000
DTSTAMP:20260423T171233
CREATED:20250627T201913Z
LAST-MODIFIED:20251122T184921Z
UID:15447-1767182400-1767290400@www.area41.org
SUMMARY:Omaha Alcathon
DESCRIPTION:Mark your calendars for this year’s Alcathon!\nFrom noon on December 31\, 2025 to 6PM on January 1\, 2026.\nWestside Community Center\n3534 S 108th St\, Omaha\, NE 68144 \nVisit the Committee/Event page (omahaaa.org/alcathon) for all event details\, to date!
URL:https://www.area41.org/event/omaha-alcathon/
LOCATION:Westside Community Center-Omaha\, 3534 S 108th St\, Omaha\, NE\, 68144\, United States
CATEGORIES:District 1,District 18,District 19,District 2,District 20,District 23,District 25,District 28,Events,Iowa District 6 (Omaha Area)
END:VEVENT
BEGIN:VEVENT
DTSTART;TZID=America/Chicago:20251221T130000
DTEND;TZID=America/Chicago:20251221T150000
DTSTAMP:20260423T171233
CREATED:20251215T025407Z
LAST-MODIFIED:20251215T025407Z
UID:16560-1766322000-1766329200@www.area41.org
SUMMARY:District 23 Mini-Workshop
DESCRIPTION:The Article that Marked a Milestone in the History of AA.\nPresented by: Gail K. \n \nA District 23 Mini-Workshop\nJoin us for Lunch\, Fellowship and Discussion! \nThe Article that Marked a Milestone in the History of AA\nPresented by: Gail K. \nSunday\, December 21st\n1:00 pm - 3:00 pm\nChapter VI Meeting Hall\n7703 Serum Ave. Ralston \nThis is a Hybrid Event\nMeeting ID: 842 1325 0124  Passcode District\nthe speaker will start at approximately 1:30 pm
URL:https://www.area41.org/event/district-23-mini-workshop-2/
LOCATION:Chapter VI Meeting Hall-Ralston\, 7703 Serum Ave\, Ralston\, NE\, 68127\, United States
CATEGORIES:District 23,Districts,Events,Service Workshop
END:VEVENT
BEGIN:VEVENT
DTSTART;TZID=America/Chicago:20251214T140000
DTEND;TZID=America/Chicago:20251214T160000
DTSTAMP:20260423T171233
CREATED:20251108T155750Z
LAST-MODIFIED:20251117T011339Z
UID:16516-1765720800-1765728000@www.area41.org
SUMMARY:GSR Workshop - Lincoln (Hybrid)
DESCRIPTION:Districts 21 & 22 Invite You To:\nThe 2025 GSR Workshop
URL:https://www.area41.org/event/gsr-workshop-lincoln-hybrid/
LOCATION:St. Matthew's Episcopal Church-Lincoln\, 2325 S 24th St\, Lincoln\, NE\, Lincoln\, NE\, 68502\, United States
CATEGORIES:District 21,District 22,Districts,Events,Service,Service Workshop
END:VEVENT
BEGIN:VEVENT
DTSTART;TZID=America/Chicago:20251213T170000
DTEND;TZID=America/Chicago:20251213T230000
DTSTAMP:20260423T171233
CREATED:20250627T201442Z
LAST-MODIFIED:20250814T191348Z
UID:15444-1765645200-1765666800@www.area41.org
SUMMARY:Christmas Party - Omaha
DESCRIPTION:2025 Christmas Party tickets are now on sale!\nVisit the Committee/Event page (omahaaa.org/party) for event details or to purchase tickets. \n \n2025 Christmas Party\n& Central Office Fundraiser\nSaturday\, December 13\, 2025\nThe Steppe Center\, 11730 Peel Circle\, La Vista\, NE \nFull Dinner Event\, 5 PM-11 PM\, table seating\nSpeaker Only\, 7 PM-11 PM\, perimeter seating \nEvent page: omahaaa.org/party
URL:https://www.area41.org/event/christmas-party-omaha-2025/
LOCATION:The Steppe Center-La Vista\, 11730 Peel Cir\, La Vista\, NE\, 68128\, United States
CATEGORIES:District 1,District 18,District 19,District 2,District 20,District 23,District 25,District 28,Events,Iowa District 6 (Omaha Area)
END:VEVENT
BEGIN:VEVENT
DTSTART;VALUE=DATE:20251213
DTEND;VALUE=DATE:20251214
DTSTAMP:20260423T171233
CREATED:20250627T225814Z
LAST-MODIFIED:20250627T232514Z
UID:15460-1765584000-1765670399@www.area41.org
SUMMARY:Holiday Party - Lincoln
DESCRIPTION:Save the date!  \nHoliday Party\nDecember 13\nHavelock United Methodist Church\nLincoln\, NE
URL:https://www.area41.org/event/holiday-party-lincoln-2025/
LOCATION:Havelock United Methodist Church-Lincoln\, 4140 N 60th St\, Lincoln\, NE\, 68507\, United States
CATEGORIES:District 21,District 22,District 29,District 3,Events
END:VEVENT
BEGIN:VEVENT
DTSTART;TZID=America/Chicago:20251129T170000
DTEND;TZID=America/Chicago:20251129T200000
DTSTAMP:20260423T171233
CREATED:20251107T165451Z
LAST-MODIFIED:20251107T165742Z
UID:16509-1764435600-1764446400@www.area41.org
SUMMARY:Perkins County Soup Supper - Grant
DESCRIPTION:
URL:https://www.area41.org/event/perkins-county-soup-supper-grant/
LOCATION:First Congregational Church-Grant\, 505 Washington Ave\, Grant\, NE\, 69140\, United States
CATEGORIES:District 13,Events
END:VEVENT
BEGIN:VEVENT
DTSTART;TZID=America/Chicago:20251115T170000
DTEND;TZID=America/Chicago:20251115T210000
DTSTAMP:20260423T171233
CREATED:20250713T014724Z
LAST-MODIFIED:20251003T133127Z
UID:15665-1763226000-1763240400@www.area41.org
SUMMARY:District 23 36th Annual Feast\, Fling\, & Fellowship - Ralston
DESCRIPTION:Join Us for an Evening of Fun and Fellowship!
URL:https://www.area41.org/event/district-23-annual-feast-fling-fellowship/
LOCATION:Trinity United Methodist Church-Ralston\, 8009 Q St\, Ralston\, NE\, 68127\, United States
CATEGORIES:District 23,Events
END:VEVENT
BEGIN:VEVENT
DTSTART;TZID=America/Chicago:20251108T150000
DTEND;TZID=America/Chicago:20251108T210000
DTSTAMP:20260423T171233
CREATED:20251030T161447Z
LAST-MODIFIED:20251030T161447Z
UID:16499-1762614000-1762635600@www.area41.org
SUMMARY:El Grupo Lexington - Aniversario #25
DESCRIPTION:EL GRUPO LEXINGTON NOS INVITA A SU ANIVERSARIO #25 CON UNA JUNTA DE INFORMACION AL PUBLICO (GRATIS) \nEL DIA 8 DE NOVIEBRE A LAS 3:00PM 1000 PLUM CREEK\, LEXINGTON NE 68850.
URL:https://www.area41.org/event/el-grupo-lexington-aniversario-25/
LOCATION:Dawson County Fairgrounds-Lexington\, 1000 Plum Creek Pkwy\, Lexington\, NE\, 68850\, United States
CATEGORIES:Distrito 31 - Español,Events
END:VEVENT
BEGIN:VEVENT
DTSTART;TZID=America/Chicago:20251108T124500
DTEND;TZID=America/Chicago:20251108T163000
DTSTAMP:20260423T171233
CREATED:20250531T191323Z
LAST-MODIFIED:20251106T154923Z
UID:15313-1762605900-1762619400@www.area41.org
SUMMARY:4-Corners Workshop - Norfolk (Hybrid)
DESCRIPTION:In person in Norfolk\, with the option to hear speakers virtually. Virtual details below flyer.
URL:https://www.area41.org/event/4-corners-workshop-norfolk/
LOCATION:Norfolk Public Library\, 308 W Prospect Ave\, Norfolk\, NE\, 68701\, United States
CATEGORIES:District 11,District 16,District 24,Districts,Events,Servants,Service,Service Workshop,Workshop
END:VEVENT
BEGIN:VEVENT
DTSTART;TZID=America/Chicago:20251025T170000
DTEND;TZID=America/Chicago:20251025T220000
DTSTAMP:20260423T171233
CREATED:20250725T044342Z
LAST-MODIFIED:20250725T044342Z
UID:15830-1761411600-1761429600@www.area41.org
SUMMARY:El Grupo 21 de Octubre - Aniversario
DESCRIPTION:EL GRUPO 21 DE OCTUBRE NOS HACE UNA CORDIAL INVITACION A SU #28 ANIVERSARIO\, CON UNA JUNTA DE INFORMACION AL PUBLICO. GRATIS.\nEL DIA SABADO 25 DE OCTUBRE ALAS 5:00 PM EN EL 5005 S 23RD ST OMAHA NE 68107
URL:https://www.area41.org/event/el-grupo-21-de-octubre-aniversario/
LOCATION:Our Lady of Guadalupe Church Hall-Omaha\, 5001 S 23rd St\, Omaha\, NE\, 68107\, United States
CATEGORIES:Distrito 31 - Español,Events
END:VEVENT
BEGIN:VEVENT
DTSTART;TZID=America/Chicago:20251018T190000
DTEND;TZID=America/Chicago:20251018T230000
DTSTAMP:20260423T171233
CREATED:20250917T040941Z
LAST-MODIFIED:20250917T042125Z
UID:16137-1760814000-1760828400@www.area41.org
SUMMARY:Alive at 11 Anniversary - Omaha
DESCRIPTION:
URL:https://www.area41.org/event/alive-at-11-anniversary-omaha/
LOCATION:St. Andrew's Episcopal Church-Omaha\, 925 S 84th St\, Omaha\, NE\, 68114\, United States
CATEGORIES:District 19,Events
END:VEVENT
BEGIN:VEVENT
DTSTART;TZID=America/Chicago:20251018T163000
DTEND;TZID=America/Chicago:20251018T200000
DTSTAMP:20260423T171233
CREATED:20251012T133406Z
LAST-MODIFIED:20251012T133406Z
UID:16385-1760805000-1760817600@www.area41.org
SUMMARY:Downtown Friendship Group Annual Banquet - Beatrice
DESCRIPTION:AA Downtown Friendship Group Annual Banquet. Since 1957.\nSaturday Oct. 18th\, 2025  \nValentino's\n701 Court St. Beatrice NE\nEnter From Alley Door \nSpeaker: Mike R. from Omaha NE\n4:30 pm: Sign in + meet and greet\n5:00 pm : Dinner\n6:00 pm: 10 minute break\n6:15 pm: Speaker \n$13.99 +tax for Mini Italian Buffet\nDrinks included\nBuffet includes; Salad\, Lasagna\,\nvariety of Pizza\, Cinnamon Stix\,\ncoffee\, Tea\, and Fountain Drinks  \nAll Adults\, Spouses and Al Anon are Welcome\n(Please no children.) \nRSVP to Sharen H. \n*Final head count for meal must be called in by 5 p.m. October 14th
URL:https://www.area41.org/event/downtown-friendship-group-annual-banquet-beatrice/
LOCATION:Valentino's-Beatrice\, 701 Court St\, Beatrice\, NE\, 68310\, United States
CATEGORIES:District 5,Events
END:VEVENT
BEGIN:VEVENT
DTSTART;TZID=America/Chicago:20251018T160000
DTEND;TZID=America/Chicago:20251018T180000
DTSTAMP:20260423T171233
CREATED:20250917T015759Z
LAST-MODIFIED:20250917T040259Z
UID:16118-1760803200-1760810400@www.area41.org
SUMMARY:District 2 Service Workshop - Omaha
DESCRIPTION:Speakers discuss AA service structure\, share experience of service and impact to their recovery. Provide information on District level open positions this upcoming quarter.
URL:https://www.area41.org/event/district-2-service-workshop/
LOCATION:Lutheran Church of the Master-Omaha\, 2617 S 114th St\, Omaha\, NE\, 68144\, United States
CATEGORIES:District 2,Districts,Events,Service Workshop
END:VEVENT
BEGIN:VEVENT
DTSTART;TZID=America/Chicago:20251018T140000
DTEND;TZID=America/Chicago:20251018T210000
DTSTAMP:20260423T171233
CREATED:20250627T225807Z
LAST-MODIFIED:20250917T141512Z
UID:15459-1760796000-1760821200@www.area41.org
SUMMARY:Soberfest - Lincoln
DESCRIPTION:Soberfest\nSaturday\, October 18\, 2025\nHavelock United Methodist Church\n4140 N 60th St\, Lincoln\, NE 68507 \nFOOD - FUN - FELLOWSHIP\nA chili feed and cinnamon roll dinner with all of the fixings will take place at 5:30 PM.\nThe raffle will take place after dinner & donations are greatly appreciated.\nSoberokie from 7 to 9 PM \nSpeakers: 2:30 PM Mike Z.; 3:30 PM Taylor M.
URL:https://www.area41.org/event/soberfest-lincoln/
LOCATION:Havelock United Methodist Church-Lincoln\, 4140 N 60th St\, Lincoln\, NE\, 68507\, United States
CATEGORIES:District 21,District 22,District 29,District 3,Events
END:VEVENT
BEGIN:VEVENT
DTSTART;TZID=America/Chicago:20251018T110000
DTEND;TZID=America/Chicago:20251018T133000
DTSTAMP:20260423T171233
CREATED:20250917T034758Z
LAST-MODIFIED:20250917T040014Z
UID:16124-1760785200-1760794200@www.area41.org
SUMMARY:District 20 Workshop - Bellevue
DESCRIPTION:District 20 Workshop\nDave B\nShelley B \nSaturday – October 18\, 2025\nImmanuel Lutheran Church\n104 Galvin Road – Bellevue\nPromises 1-6 - 11 AM\nFree Lunch - 12 PM\nPromises 7-12 - 12:30 PM
URL:https://www.area41.org/event/d20-workshop-25-10/
LOCATION:Immanuel Lutheran Church-Omaha\, 104 Galvin Rd N\, Bellevue\, NE\, 68005\, United States
CATEGORIES:District 20,Districts,Events,Recovery Workshop
END:VEVENT
BEGIN:VEVENT
DTSTART;TZID=America/Chicago:20251012T130000
DTEND;TZID=America/Chicago:20251012T150000
DTSTAMP:20260423T171233
CREATED:20250917T012208Z
LAST-MODIFIED:20250918T032437Z
UID:16102-1760274000-1760281200@www.area41.org
SUMMARY:District 23 Mini-Workshop - Ralston
DESCRIPTION:A D23 free event! Join us for lunch\, fellowship and a presentation of the Plain Language Big Book\, by Todd C. \nThis is a hybrid event. The speaker will start at approximately 1:30 pm.
URL:https://www.area41.org/event/d23-workshop-25-10/
LOCATION:Chapter VI Meeting Hall-Ralston\, 7703 Serum Ave\, Ralston\, NE\, 68127\, United States
CATEGORIES:District 23,Districts,Events,Recovery Workshop
END:VEVENT
BEGIN:VEVENT
DTSTART;TZID=America/Chicago:20251011T173000
DTEND;TZID=America/Chicago:20251011T220000
DTSTAMP:20260423T171233
CREATED:20250917T013042Z
LAST-MODIFIED:20250917T040243Z
UID:16104-1760203800-1760220000@www.area41.org
SUMMARY:District 15 Annual Chili Cook-off - Grand Island
DESCRIPTION:Chili cook-off: bring your best batch of homemade chili!\nFeel free to bring a side dish\, dessert or both! \n4:40pm - Set Up\n6:00pm - Dinner\n7:00pm - Speaker\n9:00pm - Clean Up
URL:https://www.area41.org/event/d15-chili-cookoff-25-10/
LOCATION:St. Stephen's Episcopal Church-Grand Island\, 422 W 2nd St\, Grand Island\, NE\, 68801\, United States
CATEGORIES:District 15,Districts,Events
END:VEVENT
BEGIN:VEVENT
DTSTART;TZID=America/Chicago:20251011T163000
DTEND;TZID=America/Chicago:20251011T213000
DTSTAMP:20260423T171233
CREATED:20250725T044153Z
LAST-MODIFIED:20250725T044225Z
UID:15827-1760200200-1760218200@www.area41.org
SUMMARY:El Grupo Nueva Vida - Aniversario
DESCRIPTION:EL GRUPO NUEVA VIDA NOS HACE UNA CORDIAL INVITACION A SU #46 ANIVERSARIO CON UNA JUNTA DE INFORMACION AL PUBLICO. GRATIS.\nEL DIA SABADO 11 DE OCTUBRE \, ALAS 4:30 PM. EN EL 5005 S 23RD ST OMAHA NE 68107
URL:https://www.area41.org/event/el-grupo-nueva-vida-aniversario/
LOCATION:Our Lady of Guadalupe Church Hall-Omaha\, 5001 S 23rd St\, Omaha\, NE\, 68107\, United States
CATEGORIES:Distrito 31 - Español,Events
END:VEVENT
BEGIN:VEVENT
DTSTART;TZID=America/Chicago:20251005T120000
DTEND;TZID=America/Chicago:20251005T150000
DTSTAMP:20260423T171233
CREATED:20250917T014725Z
LAST-MODIFIED:20251003T023225Z
UID:16112-1759665600-1759676400@www.area41.org
SUMMARY:Big Frik'n Picnic - Omaha
DESCRIPTION:Millard Club Wednesday Night Big Book Group presents:\n2025 Big Frik'n Picnic\nat Lake Zorinsky\, Shelter #1\, 156th St\nSunday\, October 5\, 12 pm - 3 pm\nWe welcome side dishes\, desserts\, friends & family!
URL:https://www.area41.org/event/big-frikn-picnic-omaha/
LOCATION:Lake Zorinsky-Omaha\, 156th and F St\, Omaha\, NE\, 68135\, United States
CATEGORIES:District 2,Events
END:VEVENT
BEGIN:VEVENT
DTSTART;TZID=America/Chicago:20251004T110000
DTEND;TZID=America/Chicago:20251004T130000
DTSTAMP:20260423T171233
CREATED:20250821T010700Z
LAST-MODIFIED:20250917T033300Z
UID:15915-1759575600-1759582800@www.area41.org
SUMMARY:District 18 Fall Brunch and Service Workshop - Omaha
DESCRIPTION:
URL:https://www.area41.org/event/district-18-fall-brunch-and-service-workshop/
LOCATION:Covenant Presbyterian Church-Omaha\, 15002 Blondo St\, Omaha\, NE\, 68116\, United States
CATEGORIES:District 18,Districts,Events,Service Workshop
END:VEVENT
BEGIN:VEVENT
DTSTART;TZID=America/Chicago:20250928T113000
DTEND;TZID=America/Chicago:20250928T130000
DTSTAMP:20260423T171233
CREATED:20250722T194432Z
LAST-MODIFIED:20250722T200623Z
UID:15772-1759059000-1759064400@www.area41.org
SUMMARY:District 21 Unity Picnic - Lincoln
DESCRIPTION:
URL:https://www.area41.org/event/d21-unity-picnic/
LOCATION:Van Dorn Park Shelter-Lincoln\, 930 High St\, Lincoln\, NE\, 68502\, United States
CATEGORIES:District 21,Districts,Events
END:VEVENT
BEGIN:VEVENT
DTSTART;TZID=America/Chicago:20250926T180000
DTEND;TZID=America/Chicago:20250928T120000
DTSTAMP:20260423T171233
CREATED:20250910T211602Z
LAST-MODIFIED:20250910T211602Z
UID:16075-1758909600-1759060800@www.area41.org
SUMMARY:Lake Ogallala Campout
DESCRIPTION:SEP 26-28: LAKE OGALLALA* – East side of lake where camping is full hookup w/ Utilities; camping on west side of lake is Primitive camping. NE park permit required.\n*Note: From May 20 - Sept. 10 reservations will be required for all campsites at Lake Ogallala. Confirmation upon check-in is required as well. Visit outdoornebraska.gov/parks/reservations for more information. \n*Multi-Focused Events may be attended by other twelve-step entities in addition to A.A. Therefore\, A.A. members are encouraged to consider their preferred level of personal anonymity accordingly.
URL:https://www.area41.org/event/lake-ogallala-campout/
LOCATION:Lake Ogallala State Recreation Area\, 160 Central District Dr\, Keystone\, 69144\, United States
CATEGORIES:District 13,Events
END:VEVENT
BEGIN:VEVENT
DTSTART;TZID=America/Chicago:20250920T110000
DTEND;TZID=America/Chicago:20250920T140000
DTSTAMP:20260423T171233
CREATED:20250915T150617Z
LAST-MODIFIED:20250917T040234Z
UID:16086-1758366000-1758376800@www.area41.org
SUMMARY:District 13 Meeting - Ogallala
DESCRIPTION:Our next district 13 meeting is scheduled for September 20.  AA meeting at 11:00\, pot luck at 12:00 and district meeting at 1:00.  The North Star group is the host and will provide meat balls\, cucumber salad and a green salad.  Please bring a side dish to complement\, desserts are always welcome. \nLet your groups know about the July Highlights and October Agenda\, and bring your feedback so the DCM can vote the district conscious. \nThere are several positions that are rotating out of the 2 year service timeline\, including the DCM position.
URL:https://www.area41.org/event/district-13-meeting/
LOCATION:Tradition Clubhouse\, 1008 W A St\, Ogallala\, NE\, 69153\, United States
CATEGORIES:District 13,Districts,Events,Service
END:VEVENT
END:VCALENDAR