BEGIN:VCALENDAR
VERSION:2.0
PRODID:-//Area41.org - ECPv6.15.17.1//NONSGML v1.0//EN
CALSCALE:GREGORIAN
METHOD:PUBLISH
X-ORIGINAL-URL:https://www.area41.org
X-WR-CALDESC:Events for Area41.org
REFRESH-INTERVAL;VALUE=DURATION:PT1H
X-Robots-Tag:noindex
X-PUBLISHED-TTL:PT1H
BEGIN:VTIMEZONE
TZID:America/Chicago
BEGIN:DAYLIGHT
TZOFFSETFROM:-0600
TZOFFSETTO:-0500
TZNAME:CDT
DTSTART:20250309T080000
END:DAYLIGHT
BEGIN:STANDARD
TZOFFSETFROM:-0500
TZOFFSETTO:-0600
TZNAME:CST
DTSTART:20251102T070000
END:STANDARD
BEGIN:DAYLIGHT
TZOFFSETFROM:-0600
TZOFFSETTO:-0500
TZNAME:CDT
DTSTART:20260308T080000
END:DAYLIGHT
BEGIN:STANDARD
TZOFFSETFROM:-0500
TZOFFSETTO:-0600
TZNAME:CST
DTSTART:20261101T070000
END:STANDARD
BEGIN:DAYLIGHT
TZOFFSETFROM:-0600
TZOFFSETTO:-0500
TZNAME:CDT
DTSTART:20270314T080000
END:DAYLIGHT
BEGIN:STANDARD
TZOFFSETFROM:-0500
TZOFFSETTO:-0600
TZNAME:CST
DTSTART:20271107T070000
END:STANDARD
BEGIN:DAYLIGHT
TZOFFSETFROM:-0600
TZOFFSETTO:-0500
TZNAME:CDT
DTSTART:20280312T080000
END:DAYLIGHT
BEGIN:STANDARD
TZOFFSETFROM:-0500
TZOFFSETTO:-0600
TZNAME:CST
DTSTART:20281105T070000
END:STANDARD
END:VTIMEZONE
BEGIN:VEVENT
DTSTART;TZID=America/Chicago:20260522T170000
DTEND;TZID=America/Chicago:20260524T120000
DTSTAMP:20260423T171206
CREATED:20260131T232322Z
LAST-MODIFIED:20260131T234703Z
UID:16953-1779469200-1779624000@www.area41.org
SUMMARY:Cathedral Campers Campout - McCool Junction
DESCRIPTION:Breakfast 8:00 AM\nLunch Noon\nSupper 6:00 PM (Saturday Night - Potluck)\n(PLEASE NO ANIMALS @ MEALS) \nMeetings:\nOpen AA Friday 8:00 P.M.\nOpen Al Anon Saturday 10:00 A.M.\nOpen AA Saturday 8:00 P.M.\nOpen AA Breakfast meeting Sunday 8:00 A.M. \nAny questions send email to address below\, this is checked once a week. \n \n*Multi-Focused Events may be attended by other twelve-step entities in addition to A.A. Therefore\, A.A. members are encouraged to consider their preferred level of personal anonymity accordingly.
URL:https://www.area41.org/event/cathedral-campers-mccool-junction-2026/
LOCATION:MN
CATEGORIES:District 26,Events
ORGANIZER;CN="Cathedral Campers":MAILTO:AACathedralCampers@yahoo.com
END:VEVENT
BEGIN:VEVENT
DTSTART;TZID=America/Chicago:20260731T170000
DTEND;TZID=America/Chicago:20260802T120000
DTSTAMP:20260423T171206
CREATED:20260131T224603Z
LAST-MODIFIED:20260131T234714Z
UID:16930-1785517200-1785672000@www.area41.org
SUMMARY:Cathedral Campers + Triangle Campers - Stromsburg
DESCRIPTION:Weekend Schedule:\nAA Meetings: Friday 8:00 PM\, Saturday 10:00 AM\, Saturday 8:00 PM (Possible Saturday 2 PM Mtg.)\nAl-Anon Meetings: Friday 8:00 PM\, Saturday 10:00 AM\, Saturday 8:00 PM\nSpiritual Meeting: Sunday 10 AM - Open Meeting (All Welcome)\nPotluck Dinner: Saturday 6:00 PM - (No Pets at Meals)\n Regarding Congregate Breakfasts-Contact Campout Sponsor\n Please bring your own plates and silverware to all meals\nFeel free to let others know if you are going camping somewhere and like company!!
URL:https://www.area41.org/event/triangle-campers-stromsburg-2026/
LOCATION:Buckley Park Campground\, 4C52+C6\, Stromsburg\, NE\, 68666\, United States
CATEGORIES:District 26,Events
END:VEVENT
BEGIN:VEVENT
DTSTART;TZID=America/Chicago:20260828T170000
DTEND;TZID=America/Chicago:20260830T120000
DTSTAMP:20260423T171206
CREATED:20260131T232545Z
LAST-MODIFIED:20260131T234719Z
UID:16958-1787936400-1788091200@www.area41.org
SUMMARY:Cathedral Campers Campout - Stromsburg
DESCRIPTION:Breakfast 8:00 AM\nLunch Noon\nSupper 6:00 PM (Saturday Night - Potluck)\n(PLEASE NO ANIMALS @ MEALS) \nMeetings:\nOpen AA Friday 8:00 P.M.\nOpen Al Anon Saturday 10:00 A.M.\nOpen AA Saturday 8:00 P.M.\nOpen AA Breakfast meeting Sunday 8:00 A.M. \nAny questions send email to address below\, this is checked once a week. \n \n*Multi-Focused Events may be attended by other twelve-step entities in addition to A.A. Therefore\, A.A. members are encouraged to consider their preferred level of personal anonymity accordingly.
URL:https://www.area41.org/event/cathedral-campers-stromsburg-2026/
LOCATION:Buckley Park Campground (New - west side)\, 494W+MFF\, Stromsburg\, NE\, 68666\, United States
CATEGORIES:District 26,Events
ORGANIZER;CN="Cathedral Campers":MAILTO:AACathedralCampers@yahoo.com
END:VEVENT
BEGIN:VEVENT
DTSTART;TZID=America/Chicago:20260828T200000
DTEND;TZID=America/Chicago:20260830T120000
DTSTAMP:20260423T171206
CREATED:20260131T225433Z
LAST-MODIFIED:20260131T231328Z
UID:16934-1787947200-1788091200@www.area41.org
SUMMARY:Triangle Campers - Stromsburg
DESCRIPTION:Weekend Schedule:\nAA Meetings: Friday 8:00 PM\, Saturday 10:00 AM\, Saturday 8:00 PM (Possible Saturday 2 PM Mtg.)\nAl-Anon Meetings: Friday 8:00 PM\, Saturday 10:00 AM\, Saturday 8:00 PM\nSpiritual Meeting: Sunday 10 AM - Open Meeting (All Welcome)\nPotluck Dinner: Saturday 6:00 PM - (No Pets at Meals)\n Regarding Congregate Breakfasts-Contact Campout Sponsor\n Please bring your own plates and silverware to all meals\nFeel free to let others know if you are going camping somewhere and like company!!
URL:https://www.area41.org/event/triangle-campers-stromsburg-westside-2026/
LOCATION:Buckley Park Campground (New - west side)\, 494W+MFF\, Stromsburg\, NE\, 68666\, United States
CATEGORIES:District 26,Events
END:VEVENT
BEGIN:VEVENT
DTSTART;VALUE=DATE:20270305
DTEND;VALUE=DATE:20270308
DTSTAMP:20260423T171206
CREATED:20260228T215225Z
LAST-MODIFIED:20260301T001908Z
UID:17118-1804204800-1804463999@www.area41.org
SUMMARY:2027 West Central Region A.A. Service Conference (WCRAASC) - Breezy Point\, MN (Hybrid)
DESCRIPTION:SAVE THE DATE\nMarch 5-7\, 2027\nHosted by Area 35 at Breezy Point Resort  \nWatch for REGISTRATION DETAILS & VOLUNTEER OPPORTUNITES in Fall 2026!\nwestcentralregion.org
URL:https://www.area41.org/event/2027-wcraasc/
LOCATION:Breezy Point Resort\, 9252 Breezy Point Dr\, Breezy Point\, MN\, 56472\, United States
CATEGORIES:Conference,District 1,District 10,District 11,District 12,District 13,District 14,District 15,District 16,District 18,District 19,District 2,District 20,District 21,District 22,District 23,District 24,District 25,District 26,District 28,District 29,District 3,District 30,District 32,District 4,District 5,District 6,District 7,District 8,District 9,Districts,Distrito 31 - Español,Events,Service
END:VEVENT
END:VCALENDAR