BEGIN:VCALENDAR
VERSION:2.0
PRODID:-//Area41.org - ECPv6.15.17.1//NONSGML v1.0//EN
CALSCALE:GREGORIAN
METHOD:PUBLISH
X-ORIGINAL-URL:https://www.area41.org
X-WR-CALDESC:Events for Area41.org
REFRESH-INTERVAL;VALUE=DURATION:PT1H
X-Robots-Tag:noindex
X-PUBLISHED-TTL:PT1H
BEGIN:VTIMEZONE
TZID:America/Chicago
BEGIN:DAYLIGHT
TZOFFSETFROM:-0600
TZOFFSETTO:-0500
TZNAME:CDT
DTSTART:20240310T080000
END:DAYLIGHT
BEGIN:STANDARD
TZOFFSETFROM:-0500
TZOFFSETTO:-0600
TZNAME:CST
DTSTART:20241103T070000
END:STANDARD
BEGIN:DAYLIGHT
TZOFFSETFROM:-0600
TZOFFSETTO:-0500
TZNAME:CDT
DTSTART:20250309T080000
END:DAYLIGHT
BEGIN:STANDARD
TZOFFSETFROM:-0500
TZOFFSETTO:-0600
TZNAME:CST
DTSTART:20251102T070000
END:STANDARD
BEGIN:DAYLIGHT
TZOFFSETFROM:-0600
TZOFFSETTO:-0500
TZNAME:CDT
DTSTART:20260308T080000
END:DAYLIGHT
BEGIN:STANDARD
TZOFFSETFROM:-0500
TZOFFSETTO:-0600
TZNAME:CST
DTSTART:20261101T070000
END:STANDARD
END:VTIMEZONE
BEGIN:VEVENT
DTSTART;TZID=America/Chicago:20250531T130000
DTEND;TZID=America/Chicago:20250531T160000
DTSTAMP:20260424T082215
CREATED:20250508T041210Z
LAST-MODIFIED:20250508T041351Z
UID:15095-1748696400-1748707200@www.area41.org
SUMMARY:District 22 How to Put on an AA Workshop - Lincoln
DESCRIPTION:AA workshop on how to organize\, prepare and present a workshop. \nDistrict 22 Presents\nPastries\, Pretzels and Personalities!\nHow to Put on an AA Workshop  \nMeet ‘n Greet\nSpeaker Panel\nRAFFLE \nAA Literature Chair will have AA literature for sale! \nSaturday\, May 31st\n1pm - 4pm\nSt. Matthew’s Church\, 2325 S 24th St
URL:https://www.area41.org/event/d22-workshop-2025/
LOCATION:St. Matthew's Episcopal Church-Lincoln\, 2325 S 24th St\, Lincoln\, NE\, Lincoln\, NE\, 68502\, United States
CATEGORIES:District 22,Events,Service,Service Workshop
END:VEVENT
END:VCALENDAR