BEGIN:VCALENDAR
VERSION:2.0
PRODID:-//Area41.org - ECPv6.15.17.1//NONSGML v1.0//EN
CALSCALE:GREGORIAN
METHOD:PUBLISH
X-WR-CALNAME:Area41.org
X-ORIGINAL-URL:https://www.area41.org
X-WR-CALDESC:Events for Area41.org
REFRESH-INTERVAL;VALUE=DURATION:PT1H
X-Robots-Tag:noindex
X-PUBLISHED-TTL:PT1H
BEGIN:VTIMEZONE
TZID:America/Chicago
BEGIN:DAYLIGHT
TZOFFSETFROM:-0600
TZOFFSETTO:-0500
TZNAME:CDT
DTSTART:20250309T080000
END:DAYLIGHT
BEGIN:STANDARD
TZOFFSETFROM:-0500
TZOFFSETTO:-0600
TZNAME:CST
DTSTART:20251102T070000
END:STANDARD
BEGIN:DAYLIGHT
TZOFFSETFROM:-0600
TZOFFSETTO:-0500
TZNAME:CDT
DTSTART:20260308T080000
END:DAYLIGHT
BEGIN:STANDARD
TZOFFSETFROM:-0500
TZOFFSETTO:-0600
TZNAME:CST
DTSTART:20261101T070000
END:STANDARD
BEGIN:DAYLIGHT
TZOFFSETFROM:-0600
TZOFFSETTO:-0500
TZNAME:CDT
DTSTART:20270314T080000
END:DAYLIGHT
BEGIN:STANDARD
TZOFFSETFROM:-0500
TZOFFSETTO:-0600
TZNAME:CST
DTSTART:20271107T070000
END:STANDARD
END:VTIMEZONE
BEGIN:VEVENT
DTSTART;TZID=America/Chicago:20260522T170000
DTEND;TZID=America/Chicago:20260524T120000
DTSTAMP:20260423T182341
CREATED:20260131T232322Z
LAST-MODIFIED:20260131T234703Z
UID:16953-1779469200-1779624000@www.area41.org
SUMMARY:Cathedral Campers Campout - McCool Junction
DESCRIPTION:Breakfast 8:00 AM\nLunch Noon\nSupper 6:00 PM (Saturday Night - Potluck)\n(PLEASE NO ANIMALS @ MEALS) \nMeetings:\nOpen AA Friday 8:00 P.M.\nOpen Al Anon Saturday 10:00 A.M.\nOpen AA Saturday 8:00 P.M.\nOpen AA Breakfast meeting Sunday 8:00 A.M. \nAny questions send email to address below\, this is checked once a week. \n \n*Multi-Focused Events may be attended by other twelve-step entities in addition to A.A. Therefore\, A.A. members are encouraged to consider their preferred level of personal anonymity accordingly.
URL:https://www.area41.org/event/cathedral-campers-mccool-junction-2026/
LOCATION:NE
CATEGORIES:District 26,Events
ORGANIZER;CN="Cathedral Campers":MAILTO:AACathedralCampers@yahoo.com
END:VEVENT
BEGIN:VEVENT
DTSTART;TZID=America/Chicago:20260522T200000
DTEND;TZID=America/Chicago:20260524T120000
DTSTAMP:20260423T182341
CREATED:20260131T224133Z
LAST-MODIFIED:20260131T230617Z
UID:16924-1779480000-1779624000@www.area41.org
SUMMARY:Triangle Campers - near Merna
DESCRIPTION:Weekend Schedule:\nAA Meetings: Friday 8:00 PM\, Saturday 10:00 AM\, Saturday 8:00 PM (Possible Saturday 2 PM Mtg.)\nAl-Anon Meetings: Friday 8:00 PM\, Saturday 10:00 AM\, Saturday 8:00 PM\nSpiritual Meeting: Sunday 10 AM - Open Meeting (All Welcome)\nPotluck Dinner: Saturday 6:00 PM - (No Pets at Meals)\n Regarding Congregate Breakfasts-Contact Campout Sponsor\n Please bring your own plates and silverware to all meals\nFeel free to let others know if you are going camping somewhere and like company!!
URL:https://www.area41.org/event/triangle-campers-merna-2026/
LOCATION:Victoria Springs State Recreation Area\, 43400 State Hwy 21A South\, Anselmo\, NE\, 68813\, United States
CATEGORIES:District 12,Events
END:VEVENT
END:VCALENDAR