BEGIN:VCALENDAR
VERSION:2.0
PRODID:-//Area41.org - ECPv6.15.17.1//NONSGML v1.0//EN
CALSCALE:GREGORIAN
METHOD:PUBLISH
X-ORIGINAL-URL:https://www.area41.org
X-WR-CALDESC:Events for Area41.org
REFRESH-INTERVAL;VALUE=DURATION:PT1H
X-Robots-Tag:noindex
X-PUBLISHED-TTL:PT1H
BEGIN:VTIMEZONE
TZID:America/Chicago
BEGIN:DAYLIGHT
TZOFFSETFROM:-0600
TZOFFSETTO:-0500
TZNAME:CDT
DTSTART:20250309T080000
END:DAYLIGHT
BEGIN:STANDARD
TZOFFSETFROM:-0500
TZOFFSETTO:-0600
TZNAME:CST
DTSTART:20251102T070000
END:STANDARD
BEGIN:DAYLIGHT
TZOFFSETFROM:-0600
TZOFFSETTO:-0500
TZNAME:CDT
DTSTART:20260308T080000
END:DAYLIGHT
BEGIN:STANDARD
TZOFFSETFROM:-0500
TZOFFSETTO:-0600
TZNAME:CST
DTSTART:20261101T070000
END:STANDARD
BEGIN:DAYLIGHT
TZOFFSETFROM:-0600
TZOFFSETTO:-0500
TZNAME:CDT
DTSTART:20270314T080000
END:DAYLIGHT
BEGIN:STANDARD
TZOFFSETFROM:-0500
TZOFFSETTO:-0600
TZNAME:CST
DTSTART:20271107T070000
END:STANDARD
END:VTIMEZONE
BEGIN:VEVENT
DTSTART;TZID=America/Chicago:20260516T170000
DTEND;TZID=America/Chicago:20260516T210000
DTSTAMP:20260423T182544
CREATED:20260308T035259Z
LAST-MODIFIED:20260308T035520Z
UID:17164-1778950800-1778965200@www.area41.org
SUMMARY:NW Missouri's Spring Fling 2026 - Tarkio\, MO
DESCRIPTION:
URL:https://www.area41.org/event/nw-missouris-spring-fling-2026-tarkio-mo/
LOCATION:Tarkio Community Building\, 603 S 3rd St\, Tarkio\, MO\, 64491\, United States
CATEGORIES:District 5,Events
END:VEVENT
BEGIN:VEVENT
DTSTART;TZID=America/Chicago:20260516T170000
DTEND;TZID=America/Chicago:20260516T220000
DTSTAMP:20260423T182544
CREATED:20260222T164726Z
LAST-MODIFIED:20260222T164747Z
UID:17068-1778950800-1778968800@www.area41.org
SUMMARY:El grupo El Renacimiento 23.º aniversario - Omaha
DESCRIPTION:EL GRUPO EL RENACIMIENTO NOS HACE UNA CORDIAL INVITACION A SU #23 ANIVERSARIO\, CON UNA JUNTA DE INFORMACION AL PUBLICO\, COMIDA Y BAILE GRATIS....\nQUE SE LLEVARA A CABO EL DIA 16 DE MAYO DEL 2026\, A LAS 5:00PM EN LA IGLESIA DE SAN FRANCISCO \, UBICADA EN 4513 S. 32 ST. OMAHA NE 68107
URL:https://www.area41.org/event/el-renacimiento-23/
LOCATION:St Francis Assisi Church-Omaha\, 4513 S 32nd St\, Omaha\, 68107\, United States
CATEGORIES:Districts,Distrito 31 - Español,Events
END:VEVENT
END:VCALENDAR