BEGIN:VCALENDAR
VERSION:2.0
PRODID:-//Area41.org - ECPv6.15.17.1//NONSGML v1.0//EN
CALSCALE:GREGORIAN
METHOD:PUBLISH
X-ORIGINAL-URL:https://www.area41.org
X-WR-CALDESC:Events for Area41.org
REFRESH-INTERVAL;VALUE=DURATION:PT1H
X-Robots-Tag:noindex
X-PUBLISHED-TTL:PT1H
BEGIN:VTIMEZONE
TZID:America/Chicago
BEGIN:DAYLIGHT
TZOFFSETFROM:-0600
TZOFFSETTO:-0500
TZNAME:CDT
DTSTART:20250309T080000
END:DAYLIGHT
BEGIN:STANDARD
TZOFFSETFROM:-0500
TZOFFSETTO:-0600
TZNAME:CST
DTSTART:20251102T070000
END:STANDARD
BEGIN:DAYLIGHT
TZOFFSETFROM:-0600
TZOFFSETTO:-0500
TZNAME:CDT
DTSTART:20260308T080000
END:DAYLIGHT
BEGIN:STANDARD
TZOFFSETFROM:-0500
TZOFFSETTO:-0600
TZNAME:CST
DTSTART:20261101T070000
END:STANDARD
BEGIN:DAYLIGHT
TZOFFSETFROM:-0600
TZOFFSETTO:-0500
TZNAME:CDT
DTSTART:20270314T080000
END:DAYLIGHT
BEGIN:STANDARD
TZOFFSETFROM:-0500
TZOFFSETTO:-0600
TZNAME:CST
DTSTART:20271107T070000
END:STANDARD
END:VTIMEZONE
BEGIN:VEVENT
DTSTART;TZID=America/Chicago:20260417T200000
DTEND;TZID=America/Chicago:20260419T120000
DTSTAMP:20260423T171348
CREATED:20260131T223736Z
LAST-MODIFIED:20260131T230518Z
UID:16919-1776456000-1776600000@www.area41.org
SUMMARY:Triangle Campers - Aurora
DESCRIPTION:Weekend Schedule:\nAA Meetings: Friday 8:00 PM\, Saturday 10:00 AM\, Saturday 8:00 PM (Possible Saturday 2 PM Mtg.)\nAl-Anon Meetings: Friday 8:00 PM\, Saturday 10:00 AM\, Saturday 8:00 PM\nSpiritual Meeting: Sunday 10 AM - Open Meeting (All Welcome)\nPotluck Dinner: Saturday 6:00 PM - (No Pets at Meals)\n Regarding Congregate Breakfasts-Contact Campout Sponsor\n Please bring your own plates and silverware to all meals\nFeel free to let others know if you are going camping somewhere and like company!!
URL:https://www.area41.org/event/triangle-campers-aurora-2026/
LOCATION:Streeter Park Campground\, VXFW+6Q\, Aurora\, NE\, 68818\, United States
CATEGORIES:District 26,Events
END:VEVENT
BEGIN:VEVENT
DTSTART;TZID=America/Chicago:20260418T090000
DTEND;TZID=America/Chicago:20260418T193000
DTSTAMP:20260423T171348
CREATED:20260308T041215Z
LAST-MODIFIED:20260308T041533Z
UID:17172-1776502800-1776540600@www.area41.org
SUMMARY:Northeast Nebraska 39th Annual Spring Classic - Norfolk
DESCRIPTION:
URL:https://www.area41.org/event/spring-classic-39-norfolk/
LOCATION:Knights Of Columbus Reception Hall-Norfolk\, 105 Elm Ave\, Norfolk\, NE\, 68701\, United States
CATEGORIES:District 16,Events
END:VEVENT
BEGIN:VEVENT
DTSTART;TZID=America/Chicago:20260418T170000
DTEND;TZID=America/Chicago:20260418T220000
DTSTAMP:20260423T171348
CREATED:20260222T164115Z
LAST-MODIFIED:20260222T164524Z
UID:17062-1776531600-1776549600@www.area41.org
SUMMARY:El grupo El Rescate 33.º aniversario - Omaha
DESCRIPTION:EL GRUPO EL RESCATE LES HACE UNA CORDIAL INVITACION A SU ANIVERSARIO #33 CON UNA JUNTA DE INFORMACION PUBLICA\, COMIDA Y BAILE GRATIS...\nEL DIA SABADO 18 DE ABRIL 2026 A LAS 5:00 PM EN EL 5001 S. 23 RD ST. OMAHA NE 68107
URL:https://www.area41.org/event/el-rescate-33/
LOCATION:Our Lady of Guadalupe Church Hall-Omaha\, 5001 S 23rd St\, Omaha\, NE\, 68107\, United States
CATEGORIES:Districts,Distrito 31 - Español,Events
END:VEVENT
END:VCALENDAR