BEGIN:VCALENDAR
VERSION:2.0
PRODID:-//Area41.org - ECPv6.15.17.1//NONSGML v1.0//EN
CALSCALE:GREGORIAN
METHOD:PUBLISH
X-WR-CALNAME:Area41.org
X-ORIGINAL-URL:https://www.area41.org
X-WR-CALDESC:Events for Area41.org
REFRESH-INTERVAL;VALUE=DURATION:PT1H
X-Robots-Tag:noindex
X-PUBLISHED-TTL:PT1H
BEGIN:VTIMEZONE
TZID:America/Chicago
BEGIN:DAYLIGHT
TZOFFSETFROM:-0600
TZOFFSETTO:-0500
TZNAME:CDT
DTSTART:20250309T080000
END:DAYLIGHT
BEGIN:STANDARD
TZOFFSETFROM:-0500
TZOFFSETTO:-0600
TZNAME:CST
DTSTART:20251102T070000
END:STANDARD
BEGIN:DAYLIGHT
TZOFFSETFROM:-0600
TZOFFSETTO:-0500
TZNAME:CDT
DTSTART:20260308T080000
END:DAYLIGHT
BEGIN:STANDARD
TZOFFSETFROM:-0500
TZOFFSETTO:-0600
TZNAME:CST
DTSTART:20261101T070000
END:STANDARD
BEGIN:DAYLIGHT
TZOFFSETFROM:-0600
TZOFFSETTO:-0500
TZNAME:CDT
DTSTART:20270314T080000
END:DAYLIGHT
BEGIN:STANDARD
TZOFFSETFROM:-0500
TZOFFSETTO:-0600
TZNAME:CST
DTSTART:20271107T070000
END:STANDARD
END:VTIMEZONE
BEGIN:VEVENT
DTSTART;TZID=America/Chicago:20260402T160000
DTEND;TZID=America/Chicago:20260402T210000
DTSTAMP:20260423T171216
CREATED:20260222T164456Z
LAST-MODIFIED:20260222T164456Z
UID:17065-1775145600-1775163600@www.area41.org
SUMMARY:El grupo Mi Primera Experiencia 35.º aniversario - Schuyler
DESCRIPTION:EL GRUPO MI PRIMERA EXPERIENCIA NOS HACE UNA CORDIAL INVITACION A SU ANIVERSARIO #35 CON UNA JUNTA DE INFORMACION AL PUBLICO\, COMIDA Y BAILE GRATIS....\nQUE SE LLEVARA A CABO EL DIA II DE ABRIL DEL 2026\, A LAS 4:00 PM \, EN EL 321 E\, 10TH STREET\, SCHUYLER\, NE 68661
URL:https://www.area41.org/event/mi-primera-experiencia-35/
LOCATION:VFW Club-Schuyler\, 321 E 10th St\, Schuyler\, NE\, 68661\, United States
CATEGORIES:Districts,Distrito 31 - Español,Events
END:VEVENT
END:VCALENDAR