BEGIN:VCALENDAR
VERSION:2.0
PRODID:-//Area41.org - ECPv6.15.17.1//NONSGML v1.0//EN
CALSCALE:GREGORIAN
METHOD:PUBLISH
X-WR-CALNAME:Area41.org
X-ORIGINAL-URL:https://www.area41.org
X-WR-CALDESC:Events for Area41.org
REFRESH-INTERVAL;VALUE=DURATION:PT1H
X-Robots-Tag:noindex
X-PUBLISHED-TTL:PT1H
BEGIN:VTIMEZONE
TZID:America/Chicago
BEGIN:DAYLIGHT
TZOFFSETFROM:-0600
TZOFFSETTO:-0500
TZNAME:CDT
DTSTART:20240310T080000
END:DAYLIGHT
BEGIN:STANDARD
TZOFFSETFROM:-0500
TZOFFSETTO:-0600
TZNAME:CST
DTSTART:20241103T070000
END:STANDARD
BEGIN:DAYLIGHT
TZOFFSETFROM:-0600
TZOFFSETTO:-0500
TZNAME:CDT
DTSTART:20250309T080000
END:DAYLIGHT
BEGIN:STANDARD
TZOFFSETFROM:-0500
TZOFFSETTO:-0600
TZNAME:CST
DTSTART:20251102T070000
END:STANDARD
BEGIN:DAYLIGHT
TZOFFSETFROM:-0600
TZOFFSETTO:-0500
TZNAME:CDT
DTSTART:20260308T080000
END:DAYLIGHT
BEGIN:STANDARD
TZOFFSETFROM:-0500
TZOFFSETTO:-0600
TZNAME:CST
DTSTART:20261101T070000
END:STANDARD
BEGIN:DAYLIGHT
TZOFFSETFROM:-0600
TZOFFSETTO:-0500
TZNAME:CDT
DTSTART:20270314T080000
END:DAYLIGHT
BEGIN:STANDARD
TZOFFSETFROM:-0500
TZOFFSETTO:-0600
TZNAME:CST
DTSTART:20271107T070000
END:STANDARD
END:VTIMEZONE
BEGIN:VEVENT
DTSTART;TZID=America/Chicago:20260326T180000
DTEND;TZID=America/Chicago:20260326T193000
DTSTAMP:20260423T183919
CREATED:20260304T015452Z
LAST-MODIFIED:20260304T020046Z
UID:17141-1774548000-1774553400@www.area41.org
SUMMARY:Pre-Conference Sharing Sessions
DESCRIPTION:76th General Service Conference\nPre-Conference Sharing Sessions\nMake Your Voice Heard! \nOnline Sharing Sessions\nMeeting ID: 824 4528 8092\nPasscode: 604116\nMarch 12\, 6pm - 7:30pm\nMarch 26\, 6pm - 7:30pm  \n\nApril Area 41 Assembly\nApril 11-12\, In Person + Online\nJoin Members from Across the Area to discuss the GSC Agenda Items\nQuality Inn\, Grand Island\, NE \n\nConference Agenda Items and Background Information Available at area41.org \narea41.org/service/documentation/\n(Agenda Items and Background are under Member Services) \n\nContact the Area 41 Delegate\nReach out anytime to share feedback or ask questions one-on-one. Local sharing sessions for your group or district can be arranged.\narea41.org/delegate
URL:https://www.area41.org/event/pre-conference-sharing-sessions/
LOCATION:🛜 Virtual
CATEGORIES:Conference,Delegate,Servants,Service
END:VEVENT
BEGIN:VEVENT
DTSTART;TZID=America/Chicago:20260312T180000
DTEND;TZID=America/Chicago:20260312T193000
DTSTAMP:20260423T183919
CREATED:20260304T015535Z
LAST-MODIFIED:20260304T020006Z
UID:17142-1773338400-1773343800@www.area41.org
SUMMARY:Pre-Conference Sharing Sessions
DESCRIPTION:76th General Service Conference\nPre-Conference Sharing Sessions\nMake Your Voice Heard! \nOnline Sharing Sessions\nMeeting ID: 824 4528 8092\nPasscode: 604116\nMarch 12\, 6pm - 7:30pm\nMarch 26\, 6pm - 7:30pm  \n\nApril Area 41 Assembly\nApril 11-12\, In Person + Online\nJoin Members from Across the Area to discuss the GSC Agenda Items\nQuality Inn\, Grand Island\, NE \n\nConference Agenda Items and Background Information Available at area41.org \narea41.org/service/documentation/\n(Agenda Items and Background are under Member Services) \n\nContact the Area 41 Delegate\nReach out anytime to share feedback or ask questions one-on-one. Local sharing sessions for your group or district can be arranged.\narea41.org/delegate
URL:https://www.area41.org/event/pre-conference-sharing-sessions-5/
LOCATION:🛜 Virtual
CATEGORIES:Conference,Delegate,Servants,Service
END:VEVENT
BEGIN:VEVENT
DTSTART;VALUE=DATE:20260227
DTEND;VALUE=DATE:20260302
DTSTAMP:20260423T183919
CREATED:20251027T151933Z
LAST-MODIFIED:20260228T214138Z
UID:16476-1772150400-1772409599@www.area41.org
SUMMARY:2026 West Central Region A.A. Service Conference (WCRAASC) - Cedar Rapids\, IA (Hybrid)
DESCRIPTION:2026 West Central Regional Service Conference\nFeb 27 - Mar 1\, 2026\nHosted by Area 24 \nAttend in person in Cedar Rapids\, IA or virtually (link provided after Registration). \n🔗 Register Online (eventbrite.com) {online sales ended}\n🔗 Hotel Information (hilton.com) 2026 WCRSC hotel overflow (PDF)\n🔗 Miscellaneous Info (westcentralregion.org) \nEnglish and Spanish flyers below:
URL:https://www.area41.org/event/2026-wcrsc/
LOCATION:DoubleTree by Hilton Hotel Cedar Rapids Convention Complex\, 350 1st Ave NE\, Cedar Rapids\, IA\, 52401\, United States
CATEGORIES:Conference,District 1,District 10,District 11,District 12,District 13,District 14,District 15,District 16,District 18,District 19,District 2,District 20,District 21,District 22,District 23,District 24,District 25,District 26,District 28,District 29,District 3,District 30,District 32,District 4,District 5,District 6,District 7,District 8,District 9,Districts,Distrito 31 - Español,Events,Iowa District 6 (Omaha Area),Service
END:VEVENT
BEGIN:VEVENT
DTSTART;TZID=America/Chicago:20260212T100000
DTEND;TZID=America/Chicago:20260215T170000
DTSTAMP:20260423T183919
CREATED:20250618T184611Z
LAST-MODIFIED:20250707T183353Z
UID:15419-1770890400-1771174800@www.area41.org
SUMMARY:International Women’s Conference - Des Moines (Hybrid)
DESCRIPTION:International Women’s Conference\nFebruary 12-15\, 2026\nCommunity Choice Convention Center (Des Moines\, Iowa) & Online \nDes Moines welcomes you to the 62nd International Women’s Conference where women from around the world gather to share the language of the heart. Whether this is your first time or you’re a seasoned pro\, attending in person or online\, we hope you’ll find joy in sisterhood as we come together to celebrate our shared solution. \ninternationalwomensconference.org\nA limited number of in-person registrations are available. It will sell out soon!
URL:https://www.area41.org/event/iwc-2026-des-moines/
LOCATION:Community Choice Convention Center-Des Moines\, 833 5th Ave\, Des Moines\, IA\, 50309\, United States
CATEGORIES:Conference,Events
END:VEVENT
BEGIN:VEVENT
DTSTART;VALUE=DATE:20250828
DTEND;VALUE=DATE:20250901
DTSTAMP:20260423T183919
CREATED:20250629T183339Z
LAST-MODIFIED:20250629T183339Z
UID:15474-1756339200-1756684799@www.area41.org
SUMMARY:ICYPAA Conference - Minneapolis\, MN
DESCRIPTION:
URL:https://www.area41.org/event/icypaa-conference-minneapolis-mn/
LOCATION:Hilton Minneapolis\, 1001 S Marquette Ave\, Minneapolis\, MN\, 55403\, United States
CATEGORIES:Conference,Events,Service
END:VEVENT
END:VCALENDAR